| gaggle 1.7.0 Paul Shannon
 
 | Snapshot Date: 2007-12-11 00:09:07 -0800 (Tue, 11 Dec 2007) |  | URL: https://hedgehog.fhcrc.org/bioconductor/trunk/madman/Rpacks/gaggle |  | Last Changed Rev: 27716 / Revision: 29143 |  | Last Changed Date: 2007-10-02 18:16:39 -0700 (Tue, 02 Oct 2007) | 
 | lamb1 | Linux (SUSE 10.1) / x86_64 | OK | OK |  | 
| wilson2 | Linux (openSUSE 10.3) / x86_64 | OK | OK |  | 
| wellington | Linux (openSUSE 10.3) / i686 | OK | OK |  | 
| liverpool | Windows Server 2003 R2 (32-bit) / x64 | OK | [ OK ] | OK | 
| lemming | Windows Server 2003 (32-bit) / x64 | OK | OK | OK | 
* checking for working latex ... OK
* using log directory 'E:/biocbld/bbs-2.2-bioc/meat/gaggle.Rcheck'
* using R version 2.7.0 Under development (unstable) (2007-11-14 r43455)
* checking for file 'gaggle/DESCRIPTION' ... OK
* this is package 'gaggle' version '1.7.0'
* checking package name space information ... OK
* checking package dependencies ... OK
* checking if this is a source package ... OK
* checking whether package 'gaggle' can be installed ... OK
* checking package directory ... OK
* checking for portable file names ... OK
* checking DESCRIPTION meta-information ... OK
* checking top-level files ... OK
* checking index information ... OK
* checking package subdirectories ... OK
* checking R files for non-ASCII characters ... OK
* checking R files for syntax errors ... OK
* checking whether the package can be loaded ... OK
* checking whether the package can be loaded with stated dependencies ... OK
* checking whether the name space can be loaded with stated dependencies ... OK
* checking for unstated dependencies in R code ... OK
* checking S3 generic/method consistency ... OK
* checking replacement functions ... OK
* checking foreign function calls ... OK
* checking R code for possible problems ... NOTE
.broadcastAssociativeArray: no visible binding for global variable
  'goose'
.broadcastEnvironment: no visible binding for global variable 'goose'
.broadcastGraph: no visible binding for global variable 'goose'
broadcast: no visible binding for global variable 'goose'
gaggleInit: no visible binding for '<<-' assignment to 'goose'
gaggleInit: no visible binding for '<<-' assignment to 'targetGoose'
gaggleInit: no visible binding for global variable 'goose'
geese: no visible binding for global variable 'goose'
getCluster: no visible binding for global variable 'goose'
getHashMap: no visible binding for global variable 'goose'
getMatrix: no visible binding for global variable 'goose'
getNameList: no visible binding for global variable 'goose'
getNetwork: no visible binding for global variable 'goose'
getSpecies: no visible binding for global variable 'goose'
getTargetGoose: no visible binding for global variable 'goose'
hideGoose: no visible binding for global variable 'goose'
setSpecies: no visible binding for global variable 'goose'
setTargetGoose: no visible binding for '<<-' assignment to
  'targetGoose'
setTargetGoose: no visible binding for global variable 'goose'
showGoose: no visible binding for global variable 'goose'
testGagglePackage: no visible global function definition for
  'test.gaggle'
* checking Rd files ... OK
* checking Rd cross-references ... OK
* checking for missing documentation entries ... OK
* checking for code/documentation mismatches ... OK
* checking Rd \usage sections ... OK
* creating gaggle-Ex.R ... OK
* checking examples ... OK
* checking package vignettes in 'inst/doc' ... OK
* creating gaggle-manual.tex ... OK
* checking gaggle-manual.tex ... OK
 
installing R.css in E:/biocbld/bbs-2.2-bioc/meat/gaggle.Rcheck
---------- Making package gaggle ------------
  adding build stamp to DESCRIPTION
  installing NAMESPACE file and metadata
  installing R files
  installing inst files
  installing man source files
  installing indices
  installing help
Note: removing empty section \arguments
Note: removing empty section \arguments
Note: removing empty section \arguments
Note: removing empty section \arguments
Note: removing empty section \arguments
Note: removing empty section \arguments
 >>> Building/Updating help pages for package 'gaggle'
     Formats: text html latex example chm 
  broadcast                         text    html    latex           chm
  gaggleInit                        text    html    latex           chm
  geese                             text    html    latex           chm
  getCluster                        text    html    latex           chm
  getHashMap                        text    html    latex           chm
  getMatrix                         text    html    latex           chm
  getNameList                       text    html    latex           chm
  getNetwork                        text    html    latex           chm
  getSpecies                        text    html    latex           chm
  getTargetGoose                    text    html    latex           chm
  hideGoose                         text    html    latex           chm
  setSpecies                        text    html    latex           chm
  setTargetGoose                    text    html    latex           chm
  showGoose                         text    html    latex           chm
  testGagglePackage                 text    html    latex           chm
Microsoft HTML Help Compiler 4.74.8702
Compiling e:\biocbld\bbs-2.2-bioc\meat\gaggle.Rcheck\00_pkg_src\gaggle\chm\gaggle.chm
Compile time: 0 minutes, 0 seconds
16	Topics
72	Local links
0	Internet links
1	Graphic
Created e:\biocbld\bbs-2.2-bioc\meat\gaggle.Rcheck\00_pkg_src\gaggle\chm\gaggle.chm, 24,945 bytes
Compression decreased file by 9,591 bytes.
  adding MD5 sums
* DONE (gaggle)