explorase 1.3.0 Michael Lawrence
 | Snapshot Date: 2007-12-11 00:09:07 -0800 (Tue, 11 Dec 2007) |  | URL: https://hedgehog.fhcrc.org/bioconductor/trunk/madman/Rpacks/explorase |  | Last Changed Rev: 28198 / Revision: 29143 |  | Last Changed Date: 2007-10-24 12:05:01 -0700 (Wed, 24 Oct 2007) |  
  | lamb1  | Linux (SUSE 10.1) / x86_64  |  OK  |  OK  |  | 
| wilson2  | Linux (openSUSE 10.3) / x86_64  |  OK  |  OK  |  | 
| wellington  | Linux (openSUSE 10.3) / i686  |  OK  |  OK  |  | 
| liverpool  | Windows Server 2003 R2 (32-bit) / x64  |  OK  |  OK  |  OK  | 
| lemming  | Windows Server 2003 (32-bit) / x64  |  OK  |  OK  | [ OK ] | 
installing R.css in D:/biocbld/bbs-2.2-bioc/meat/explorase.buildbin-libdir
Using auto-selected zip options ' explorase-HELP=ziponly'
---------- Making package explorase ------------
  adding build stamp to DESCRIPTION
  installing NAMESPACE file and metadata
  installing R files
  installing inst files
  preparing package explorase for lazy loading
Loading required package: rggobi
Loading required package: RGtk2
Loading required package: limma
  installing man source files
  installing indices
  installing help
Note: removing empty section \examples
Note: removing empty section \examples
Note: removing empty section \details
Note: removing empty section \examples
Note: removing empty section \details
Note: removing empty section \examples
Note: removing empty section \details
Note: removing empty section \examples
Note: removing empty section \details
Note: removing empty section \examples
Note: removing empty section \details
Note: removing empty section \examples
Note: removing empty section \details
Note: removing empty section \examples
Note: removing empty section \details
Note: removing empty section \examples
Note: removing empty section \details
Note: removing empty section \examples
Note: removing empty section \details
Note: removing empty section \examples
Note: removing empty section \details
Note: removing empty section \examples
Note: removing empty section \details
Note: removing empty section \examples
Note: removing empty section \details
Note: removing empty section \examples
Note: removing empty section \details
Note: removing empty section \examples
Note: removing empty section \details
Note: removing empty section \examples
Note: removing empty section \details
Note: removing empty section \examples
Note: removing empty section \details
Note: removing empty section \examples
Note: removing empty section \details
Note: removing empty section \examples
Note: removing empty section \details
Note: removing empty section \examples
Note: removing empty section \details
Note: removing empty section \examples
Note: removing empty section \details
Note: removing empty section \examples
Note: removing empty section \examples
Note: removing empty section \examples
Note: removing empty section \details
Note: removing empty section \examples
Note: removing empty section \details
Note: removing empty section \examples
Note: removing empty section \details
Note: removing empty section \examples
Note: removing empty section \details
Note: removing empty section \examples
Note: removing empty section \details
Note: removing empty section \arguments
Note: removing empty section \examples
Note: removing empty section \details
Note: removing empty section \arguments
Note: removing empty section \examples
Note: removing empty section \details
Note: removing empty section \examples
Note: removing empty section \details
Note: removing empty section \examples
Note: removing empty section \details
Note: removing empty section \examples
Note: removing empty section \details
Note: removing empty section \examples
Note: removing empty section \details
Note: removing empty section \examples
Note: removing empty section \details
Note: removing empty section \examples
Note: removing empty section \details
Note: removing empty section \arguments
Note: removing empty section \examples
Note: removing empty section \details
Note: removing empty section \arguments
Note: removing empty section \examples
Note: removing empty section \details
Note: removing empty section \arguments
Note: removing empty section \examples
Note: removing empty section \details
Note: removing empty section \arguments
Note: removing empty section \examples
Note: removing empty section \details
Note: removing empty section \examples
Note: removing empty section \details
Note: removing empty section \examples
Note: removing empty section \details
Note: removing empty section \examples
Note: removing empty section \details
Note: removing empty section \examples
Note: removing empty section \details
Note: removing empty section \arguments
Note: removing empty section \examples
Note: removing empty section \details
Note: removing empty section \arguments
Note: removing empty section \examples
Note: removing empty section \details
Note: removing empty section \arguments
Note: removing empty section \examples
Note: removing empty section \details
Note: removing empty section \arguments
Note: removing empty section \examples
Note: removing empty section \details
Note: removing empty section \arguments
Note: removing empty section \examples
Note: removing empty section \details
Note: removing empty section \arguments
Note: removing empty section \examples
Note: removing empty section \details
Note: removing empty section \examples
Note: removing empty section \details
Note: removing empty section \examples
Note: removing empty section \examples
Note: removing empty section \examples
Note: removing empty section \details
Note: removing empty section \examples
Note: removing empty section \details
Note: removing empty section \examples
Note: removing empty section \examples
Note: removing empty section \examples
Note: removing empty section \examples
Note: removing empty section \examples
Note: removing empty section \examples
Note: removing empty section \examples
Note: removing empty section \examples
Note: removing empty section \examples
Note: removing empty section \details
Note: removing empty section \examples
Note: removing empty section \details
Note: removing empty section \examples
Note: removing empty section \details
Note: removing empty section \examples
Note: removing empty section \details
Note: removing empty section \examples
Note: removing empty section \details
Note: removing empty section \examples
Note: removing empty section \details
Note: removing empty section \examples
Note: removing empty section \details
Note: removing empty section \examples
Note: removing empty section \details
Note: removing empty section \examples
Note: removing empty section \details
Note: removing empty section \examples
Note: removing empty section \details
Note: removing empty section \examples
Note: removing empty section \details
Note: removing empty section \examples
Note: removing empty section \details
Note: removing empty section \examples
 >>> Building/Updating help pages for package 'explorase'
     Formats: text html latex example chm 
  exp-addEntityType-vx              text    html    latex           chm
  exp-addFilterRule-rn              text    html    latex           chm
  exp-calcAngleDist-31              text    html    latex           chm
  exp-calcCanberraDist              text    html    latex           chm
  exp-calcCorrelationDist-45        text    html    latex           chm
  exp-calcDiff-y4                   text    html    latex           chm
  exp-calcEuclideanDist-dn          text    html    latex           chm
  exp-calcMahalanobisDist-r1        text    html    latex           chm
  exp-calcResiduals-ps              text    html    latex           chm
  exp-calcZeroCorDist-by            text    html    latex           chm
  exp-close                         text    html    latex           chm
  exp-colorEntities-1h              text    html    latex           chm
  exp-dataset-6l                    text    html    latex           chm
  exp-designFactors-72              text    html    latex           chm
  exp-designFrame-d0                text    html    latex           chm
  exp-designSelection-5s            text    html    latex           chm
  exp-entitiesInList-df             text    html    latex           chm
  exp-entityFrame-4j                text    html    latex           chm
  exp-entitySelection-11            text    html    latex           chm
  exp-entityType-69                 text    html    latex           chm
  exp-entityTypes-9e                text    html    latex           chm
  exp-filterRules-vt                text    html    latex           chm
  exp-findPatterns-yw               text    html    latex           chm
  exp-ggobi-69                      text    html    latex           chm
  exp-isRunning-fo                  text    html    latex           chm
  exp-listFrame-gp                  text    html    latex           chm
  exp-listSelection                 text    html    latex           chm
  exp-loadData-bo                   text    html    latex           chm
  exp-loadDesign-35                 text    html    latex           chm
  exp-loadFiles-1w                  text    html    latex           chm
  exp-loadInfo-gk                   text    html    latex           chm
  exp-loadLists-pr                  text    html    latex           chm
  exp-loadProject-1g                text    html    latex           chm
  exp-newList-bs                    text    html    latex           chm
  exp-removeFilterRules-1i          text    html    latex           chm
  exp-showClustering-b7             text    html    latex           chm
  exp-showPatterns-bh               text    html    latex           chm
  exp-showResults-sk                text    html    latex           chm
  exp-toggleFilterRules-ts          text    html    latex           chm
  explorase                         text    html    latex           chm
  zipping help files
Microsoft HTML Help Compiler 4.74.8702
Compiling d:\biocbld\bbs-2.2-bioc\meat\R.INSTALL.4708\explorase\chm\explorase.chm
Compile time: 0 minutes, 0 seconds
41	Topics
81	Local links
0	Internet links
1	Graphic
Created d:\biocbld\bbs-2.2-bioc\meat\R.INSTALL.4708\explorase\chm\explorase.chm, 33,200 bytes
Compression decreased file by 42,989 bytes.
  adding MD5 sums
packaged installation of package 'explorase' as explorase_1.3.0.zip
* DONE (explorase)