exonmap 1.5.0 Michal Okoniewski
 | Snapshot Date: 2007-12-11 00:09:07 -0800 (Tue, 11 Dec 2007) |  | URL: https://hedgehog.fhcrc.org/bioconductor/trunk/madman/Rpacks/exonmap |  | Last Changed Rev: 28830 / Revision: 29143 |  | Last Changed Date: 2007-11-19 08:32:00 -0800 (Mon, 19 Nov 2007) |  
  | lamb1  | Linux (SUSE 10.1) / x86_64  |  OK  |  WARNINGS  |  | 
| wilson2  | Linux (openSUSE 10.3) / x86_64  |  OK  |  WARNINGS  |  | 
| wellington  | Linux (openSUSE 10.3) / i686  |  OK  |  WARNINGS  |  | 
| liverpool  | Windows Server 2003 R2 (32-bit) / x64  |  OK  |  WARNINGS  | [ OK ] | 
| lemming  | Windows Server 2003 (32-bit) / x64  |  OK  |  WARNINGS  |  OK  | 
installing R.css in E:/biocbld/bbs-2.2-bioc/meat/exonmap.buildbin-libdir
Using auto-selected zip options ' exonmap-HELP=ziponly'
---------- Making package exonmap ------------
  adding build stamp to DESCRIPTION
  installing R files
  installing inst files
  installing data files
  preparing package exonmap for lazy loading
Loading required package: affy
Loading required package: Biobase
Loading required package: tools
Welcome to Bioconductor
  Vignettes contain introductory material. To view, type
  'openVignette()'. To cite Bioconductor, see
  'citation("Biobase")' and for packages 'citation(pkgname)'.
Loading required package: affyio
Loading required package: preprocessCore
Loading required package: simpleaffy
Loading required package: genefilter
Loading required package: survival
Loading required package: splines
Loading required package: gcrma
Loading required package: matchprobes
Loading required package: RColorBrewer
Loading required package: RMySQL
Loading required package: DBI
Loading required package: plier
  installing man source files
  installing indices
  not zipping data
  installing help
Note: removing empty section \details
Note: removing empty section \details
Note: removing empty section \details
Note: removing empty section \details
Note: removing empty section \details
Note: removing empty section \details
Note: removing empty section \details
Note: removing empty section \details
Note: removing empty section \details
Note: removing empty section \details
Note: removing empty section \details
Note: removing empty section \details
Note: removing empty section \details
Note: removing empty section \details
Note: removing empty section \details
Note: removing empty section \details
Note: removing empty section \value
Note: removing empty section \value
Note: removing empty section \value
Note: removing empty section \seealso
Note: removing empty section \value
Note: removing empty section \seealso
Note: removing empty section \value
Note: removing empty section \value
Note: removing empty section \value
Note: removing empty section \value
 >>> Building/Updating help pages for package 'exonmap'
     Formats: text html latex example chm 
  PC-class                          text    html    latex   example chm
  Splanova-class                    text    html    latex   example chm
  X.toY                             text    html    latex   example chm
  array.subset                      text    html    latex   example chm
  gene.details                      text    html    latex   example chm
  gene.legend                       text    html    latex   example chm
  gene.strip                        text    html    latex   example chm
  gene.to.exon.probeset             text    html    latex   example chm
  group.indices                     text    html    latex   example chm
  pc                                text    html    latex   example chm
  plot.gene                         text    html    latex   example chm
  plot.gene.graph                   text    html    latex   example chm
  probeset.stats                    text    html    latex   example chm
  probesets.in.range                text    html    latex   example chm
  read.exon                         text    html    latex   example chm
  select.probewise                  text    html    latex   example chm
  splanova                          text    html    latex   example chm
  splicing.index                    text    html    latex   example chm
  x.rma                             text    html    latex           chm
  xmapBridge                        text    html    latex   example chm
  xmapDatabase                      text    html    latex   example chm
  xmapGene                          text    html    latex   example chm
  zipping help files
Microsoft HTML Help Compiler 4.74.8702
Compiling e:\biocbld\bbs-2.2-bioc\meat\R.INSTALL.6016\exonmap\chm\exonmap.chm
Compile time: 0 minutes, 0 seconds
23	Topics
128	Local links
19	Internet links
1	Graphic
Created e:\biocbld\bbs-2.2-bioc\meat\R.INSTALL.6016\exonmap\chm\exonmap.chm, 52,364 bytes
Compression decreased file by 53,925 bytes.
  adding MD5 sums
packaged installation of package 'exonmap' as exonmap_1.5.0.zip
* DONE (exonmap)