| copa 1.7.0 James W. MacDonald
 
 | Snapshot Date: 2007-12-11 00:09:07 -0800 (Tue, 11 Dec 2007) |  | URL: https://hedgehog.fhcrc.org/bioconductor/trunk/madman/Rpacks/copa |  | Last Changed Rev: 28083 / Revision: 29143 |  | Last Changed Date: 2007-10-19 13:14:15 -0700 (Fri, 19 Oct 2007) | 
 | lamb1 | Linux (SUSE 10.1) / x86_64 | OK | OK |  | 
| wilson2 | Linux (openSUSE 10.3) / x86_64 | OK | OK |  | 
| wellington | Linux (openSUSE 10.3) / i686 | [ OK ] | OK |  | 
| liverpool | Windows Server 2003 R2 (32-bit) / x64 | OK | OK | OK | 
| lemming | Windows Server 2003 (32-bit) / x64 | OK | OK | OK | 
* checking for file 'copa/DESCRIPTION' ... OK
* preparing 'copa':
* checking DESCRIPTION meta-information ... OK
* cleaning src
* installing the package to re-build vignettes
/tmp/Rinst3209805095
* Installing *source* package 'copa' ...
** libs
gcc -std=gnu99 -I/home/biocbuild/bbs-2.2-bioc/R/include -I/home/biocbuild/bbs-2.2-bioc/R/include  -I/usr/local/include    -fpic  -g -O2 -Wall -c copa.c -o copa.o
gcc -std=gnu99 -shared -L/usr/local/lib -o copa.so copa.o   -L/home/biocbuild/bbs-2.2-bioc/R/lib -lR
** R
** inst
** preparing package for lazy loading
Loading required package: Biobase
Loading required package: tools
Welcome to Bioconductor
  Vignettes contain introductory material. To view, type
  'openVignette()'. To cite Bioconductor, see
  'citation("Biobase")' and for packages 'citation(pkgname)'.
** help
 >>> Building/Updating help pages for package 'copa'
     Formats: text html latex example 
  copa                              text    html    latex   example
  copa.package                      text    html    latex
  copaFilter                        text    html    latex
  copaPerm                          text    html    latex
  copaTable                         text    html    latex   example
  getans                            text    html    latex
  pSum                              text    html    latex
  perm.mat                          text    html    latex
  plotCopa                          text    html    latex   example
  scatterPlotCopa                   text    html    latex   example
  summaryCopa                       text    html    latex   example
** building package indices ...
* DONE (copa)
* creating vignettes ... OK
* cleaning src
* removing junk files
* checking for LF line-endings in source and make files
* checking for empty or unneeded directories
* building 'copa_1.7.0.tar.gz'