arrayQualityMetrics 1.3.5 Audrey Kauffmann
 | Snapshot Date: 2007-12-11 00:09:07 -0800 (Tue, 11 Dec 2007) |  | URL: https://hedgehog.fhcrc.org/bioconductor/trunk/madman/Rpacks/arrayQualityMetrics |  | Last Changed Rev: 28925 / Revision: 29143 |  | Last Changed Date: 2007-11-27 03:12:05 -0800 (Tue, 27 Nov 2007) |  
  | lamb1  | Linux (SUSE 10.1) / x86_64  |  OK  |  OK  |  | 
| wilson2  | Linux (openSUSE 10.3) / x86_64  |  OK  |  OK  |  | 
| wellington  | Linux (openSUSE 10.3) / i686  |  OK  |  OK  |  | 
| liverpool  | Windows Server 2003 R2 (32-bit) / x64  | [ OK ] |  OK  |  OK  | 
| lemming  | Windows Server 2003 (32-bit) / x64  |  OK  |  OK  |  OK  | 
* checking for file 'arrayQualityMetrics/DESCRIPTION' ... OK
* preparing 'arrayQualityMetrics':
* checking DESCRIPTION meta-information ... OK
* installing the package to re-build vignettes
installing R.css in E:/biocbld/bbs-2.2-bioc/tmpdir/Rinst321292105
---------- Making package arrayQualityMetrics ------------
  adding build stamp to DESCRIPTION
  installing NAMESPACE file and metadata
  installing R files
  installing inst files
  preparing package arrayQualityMetrics for lazy loading
Loading required package: Biobase
Loading required package: tools
Welcome to Bioconductor
  Vignettes contain introductory material. To view, type
  'openVignette()'. To cite Bioconductor, see
  'citation("Biobase")' and for packages 'citation(pkgname)'.
Loading required package: geneplotter
Loading required package: annotate
Loading required package: AnnotationDbi
Loading required package: DBI
Loading required package: RSQLite
Loading required package: xtable
Loading required package: lattice
KernSmooth 2.22 installed
Copyright M. P. Wand 1997
Loading required package: genefilter
Loading required package: survival
Loading required package: splines
Loading required package: vsn
Loading required package: affy
Loading required package: affyio
Loading required package: preprocessCore
Loading required package: limma
Loading required package: RColorBrewer
Loading required package: affyPLM
Loading required package: gcrma
Loading required package: matchprobes
Loading required package: simpleaffy
Loading required package: CCl4
Loading required package: latticeExtra
Loading required package: grid
Loading required package: beadarray
Attaching package: 'beadarray'
	The following object(s) are masked from package:limma :
	 imageplot,
	 plotMA 
  installing man source files
  installing indices
  installing help
 >>> Building/Updating help pages for package 'arrayQualityMetrics'
     Formats: text html latex example chm 
  XYfromGAL                         text    html    latex           chm
  arrayQualityMetrics               text    html    latex   example chm
Microsoft HTML Help Compiler 4.74.8702
Compiling e:\biocbld\bbs-2.2-bioc\meat\arrayQualityMetrics\chm\arrayQualityMetrics.chm
Compile time: 0 minutes, 0 seconds
3	Topics
10	Local links
0	Internet links
1	Graphic
Created e:\biocbld\bbs-2.2-bioc\meat\arrayQualityMetrics\chm\arrayQualityMetrics.chm, 18,828 bytes
Compression increased file by 3,705 bytes.
  adding MD5 sums
* DONE (arrayQualityMetrics)
* creating vignettes ... OK
* removing junk files
* checking for LF line-endings in source and make files
* checking for empty or unneeded directories
* building 'arrayQualityMetrics_1.3.5.tar.gz'