| affyQCReport 1.17.0 Craig Parman
 
 | Snapshot Date: 2007-12-11 00:09:07 -0800 (Tue, 11 Dec 2007) |  | URL: https://hedgehog.fhcrc.org/bioconductor/trunk/madman/Rpacks/affyQCReport |  | Last Changed Rev: 27716 / Revision: 29143 |  | Last Changed Date: 2007-10-02 18:16:39 -0700 (Tue, 02 Oct 2007) | 
 | lamb1 | Linux (SUSE 10.1) / x86_64 | OK | OK |  | 
| wilson2 | Linux (openSUSE 10.3) / x86_64 | OK | OK |  | 
| wellington | Linux (openSUSE 10.3) / i686 | OK | OK |  | 
| liverpool | Windows Server 2003 R2 (32-bit) / x64 | [ OK ] | OK | OK | 
| lemming | Windows Server 2003 (32-bit) / x64 | OK | OK | OK | 
* checking for file 'affyQCReport/DESCRIPTION' ... OK
* preparing 'affyQCReport':
* checking DESCRIPTION meta-information ... OK
* installing the package to re-build vignettes
installing R.css in E:/biocbld/bbs-2.2-bioc/tmpdir/Rinst612469775
---------- Making package affyQCReport ------------
  adding build stamp to DESCRIPTION
  installing R files
  installing inst files
  installing man source files
  installing indices
  installing help
 >>> Building/Updating help pages for package 'affyQCReport'
     Formats: text html latex example chm 
  QCReport                          text    html    latex   example chm
  affyQAReport                      text    html    latex   example chm
  borderQC1                         text    html    latex   example chm
  borderQC2                         text    html    latex   example chm
  correlationPlot                   text    html    latex   example chm
  signalDist                        text    html    latex   example chm
  titlePage                         text    html    latex   example chm
Microsoft HTML Help Compiler 4.74.8702
Compiling e:\biocbld\bbs-2.2-bioc\meat\affyQCReport\chm\affyQCReport.chm
Compile time: 0 minutes, 0 seconds
8	Topics
29	Local links
0	Internet links
1	Graphic
Created e:\biocbld\bbs-2.2-bioc\meat\affyQCReport\chm\affyQCReport.chm, 27,093 bytes
Compression decreased file by 6,075 bytes.
  adding MD5 sums
* DONE (affyQCReport)
* creating vignettes ... OK
* removing junk files
* checking for LF line-endings in source and make files
* checking for empty or unneeded directories
* building 'affyQCReport_1.17.0.tar.gz'