RdbiPgSQL 1.13.0 Jianhua Zhang
 | Snapshot Date: 2007-12-11 00:09:07 -0800 (Tue, 11 Dec 2007) |  | URL: https://hedgehog.fhcrc.org/bioconductor/trunk/madman/Rpacks/RdbiPgSQL |  | Last Changed Rev: 27716 / Revision: 29143 |  | Last Changed Date: 2007-10-02 18:16:39 -0700 (Tue, 02 Oct 2007) |  
  | lamb1  | Linux (SUSE 10.1) / x86_64  | [ OK ] |  OK  |  | 
| wilson2  | Linux (openSUSE 10.3) / x86_64  |  OK  |  OK  |  | 
| wellington  | Linux (openSUSE 10.3) / i686  |  OK  |  OK  |  | 
| liverpool  | Windows Server 2003 R2 (32-bit) / x64  | N O T   S U P P O R T E D | 
| lemming  | Windows Server 2003 (32-bit) / x64  | N O T   S U P P O R T E D | 
* checking for file 'RdbiPgSQL/DESCRIPTION' ... OK
* preparing 'RdbiPgSQL':
* checking DESCRIPTION meta-information ... OK
* cleaning src
* running cleanup
* checking whether 'INDEX' is up-to-date ... NO
* use '--force' to overwrite the existing 'INDEX'
* removing junk files
* checking for LF line-endings in source and make files
* checking for empty or unneeded directories
* building 'RdbiPgSQL_1.13.0.tar.gz'