RLMM 1.1.0 Nusrat Rabbee
 | Snapshot Date: 2007-12-11 00:09:07 -0800 (Tue, 11 Dec 2007) |  | URL: https://hedgehog.fhcrc.org/bioconductor/trunk/madman/Rpacks/RLMM |  | Last Changed Rev: 27816 / Revision: 29143 |  | Last Changed Date: 2007-10-05 18:35:49 -0700 (Fri, 05 Oct 2007) |  
  | lamb1  | Linux (SUSE 10.1) / x86_64  |  OK  |  OK  |  | 
| wilson2  | Linux (openSUSE 10.3) / x86_64  |  OK  |  OK  |  | 
| wellington  | Linux (openSUSE 10.3) / i686  |  OK  |  OK  |  | 
| liverpool  | Windows Server 2003 R2 (32-bit) / x64  |  OK  |  OK  |  OK  | 
| lemming  | Windows Server 2003 (32-bit) / x64  |  OK  | [ OK ] |  OK  | 
* checking for working latex ... OK
* using log directory 'D:/biocbld/bbs-2.2-bioc/meat/RLMM.Rcheck'
* using R version 2.7.0 Under development (unstable) (2007-12-06 r43609)
* checking for file 'RLMM/DESCRIPTION' ... OK
* this is package 'RLMM' version '1.1.0'
* checking package dependencies ... OK
* checking if this is a source package ... OK
* checking whether package 'RLMM' can be installed ... OK
* checking package directory ... OK
* checking for portable file names ... OK
* checking DESCRIPTION meta-information ... OK
* checking top-level files ... OK
* checking index information ... OK
* checking package subdirectories ... OK
* checking R files for non-ASCII characters ... OK
* checking R files for syntax errors ... OK
* checking whether the package can be loaded ... OK
* checking whether the package can be loaded with stated dependencies ... OK
* checking for unstated dependencies in R code ... OK
* checking S3 generic/method consistency ... OK
* checking replacement functions ... OK
* checking foreign function calls ... OK
* checking R code for possible problems ... NOTE
Classify : calc.meancov: no visible binding for global variable 'dflag'
Found possibly global 'T' or 'F' in the following functions:
  Classify create_Thetafile normalize_Rawfiles plot_theta
* checking Rd files ... OK
* checking Rd cross-references ... OK
* checking for missing documentation entries ... OK
* checking for code/documentation mismatches ... OK
* checking Rd \usage sections ... OK
* creating RLMM-Ex.R ... OK
* checking examples ... OK
* checking package vignettes in 'inst/doc' ... OK
* creating RLMM-manual.tex ... OK
* checking RLMM-manual.tex ... OK
 
installing R.css in D:/biocbld/bbs-2.2-bioc/meat/RLMM.Rcheck
---------- Making package RLMM ------------
  adding build stamp to DESCRIPTION
  installing R files
  installing inst files
  installing man source files
  installing indices
  installing help
 >>> Building/Updating help pages for package 'RLMM'
     Formats: text html latex example chm 
  Classify                          text    html    latex           chm
  create_Thetafile                  text    html    latex           chm
  normalize_Rawfiles                text    html    latex           chm
  plot_theta                        text    html    latex           chm
Microsoft HTML Help Compiler 4.74.8702
Compiling d:\biocbld\bbs-2.2-bioc\meat\RLMM.Rcheck\00_pkg_src\RLMM\chm\RLMM.chm
Compile time: 0 minutes, 0 seconds
5	Topics
8	Local links
0	Internet links
1	Graphic
Created d:\biocbld\bbs-2.2-bioc\meat\RLMM.Rcheck\00_pkg_src\RLMM\chm\RLMM.chm, 19,831 bytes
Compression increased file by 4,919 bytes.
  adding MD5 sums
* DONE (RLMM)