MergeMaid 2.11.0 Xiaogang Zhong
 | Snapshot Date: 2007-12-11 00:09:07 -0800 (Tue, 11 Dec 2007) |  | URL: https://hedgehog.fhcrc.org/bioconductor/trunk/madman/Rpacks/MergeMaid |  | Last Changed Rev: 27716 / Revision: 29143 |  | Last Changed Date: 2007-10-02 18:16:39 -0700 (Tue, 02 Oct 2007) |  
  | lamb1  | Linux (SUSE 10.1) / x86_64  |  OK  |  OK  |  | 
| wilson2  | Linux (openSUSE 10.3) / x86_64  |  OK  |  OK  |  | 
| wellington  | Linux (openSUSE 10.3) / i686  |  OK  |  OK  |  | 
| liverpool  | Windows Server 2003 R2 (32-bit) / x64  |  OK  |  OK  |  OK  | 
| lemming  | Windows Server 2003 (32-bit) / x64  | [ OK ] |  OK  |  OK  | 
* checking for file 'MergeMaid/DESCRIPTION' ... OK
* preparing 'MergeMaid':
* checking DESCRIPTION meta-information ... OK
* checking whether 'INDEX' is up-to-date ... NO
* use '--force' to overwrite the existing 'INDEX'
* installing the package to re-build vignettes
installing R.css in D:/biocbld/bbs-2.2-bioc/tmpdir/Rinst456432498
---------- Making package MergeMaid ------------
  adding build stamp to DESCRIPTION
  installing NAMESPACE file and metadata
  installing R files
  installing inst files
  installing data files
  preparing package MergeMaid for lazy loading
Loading required package: survival
Loading required package: splines
Loading required package: Biobase
Loading required package: tools
Welcome to Bioconductor
  Vignettes contain introductory material. To view, type
  'openVignette()'. To cite Bioconductor, see
  'citation("Biobase")' and for packages 'citation(pkgname)'.
Loading required package: MASS
Creating a new generic function for "plot" in "MergeMaid"
Creating a new generic function for "hist" in "MergeMaid"
Creating a new generic function for "summary" in "MergeMaid"
  installing man source files
  installing indices
  not zipping data
  installing help
 >>> Building/Updating help pages for package 'MergeMaid'
     Formats: text html latex example chm 
  class.mergeCoeff                  text    html    latex   example chm
  class.mergeCor                    text    html    latex   example chm
  class.mergeExpressionSet          text    html    latex   example chm
  intCor                            text    html    latex   example chm
  intcorDens                        text    html    latex   example chm
  intersection                      text    html    latex   example chm
  mergeData                         text    html    latex           chm
  mergeExprs                        text    html    latex   example chm
  modelOutcome                      text    html    latex   example chm
Microsoft HTML Help Compiler 4.74.8702
Compiling d:\biocbld\bbs-2.2-bioc\meat\MergeMaid\chm\MergeMaid.chm
Compile time: 0 minutes, 0 seconds
10	Topics
93	Local links
0	Internet links
1	Graphic
Created d:\biocbld\bbs-2.2-bioc\meat\MergeMaid\chm\MergeMaid.chm, 29,628 bytes
Compression decreased file by 27,656 bytes.
  adding MD5 sums
* DONE (MergeMaid)
* creating vignettes ... OK
* removing junk files
* checking for LF line-endings in source and make files
* checking for empty or unneeded directories
* building 'MergeMaid_2.11.0.tar.gz'