MeasurementError.cor 1.11.0 Beiying Ding
Snapshot Date: 2007-12-11 00:09:07 -0800 (Tue, 11 Dec 2007) | URL: https://hedgehog.fhcrc.org/bioconductor/trunk/madman/Rpacks/MeasurementError.cor | Last Changed Rev: 28557 / Revision: 29143 | Last Changed Date: 2007-11-07 23:00:31 -0800 (Wed, 07 Nov 2007) |
| lamb1 | Linux (SUSE 10.1) / x86_64 | OK | OK | |
wilson2 | Linux (openSUSE 10.3) / x86_64 | OK | OK | |
wellington | Linux (openSUSE 10.3) / i686 | OK | OK | |
liverpool | Windows Server 2003 R2 (32-bit) / x64 | OK | OK | OK |
lemming | Windows Server 2003 (32-bit) / x64 | OK | OK | [ OK ] |
installing R.css in D:/biocbld/bbs-2.2-bioc/meat/MeasurementError.cor.buildbin-libdir
Using auto-selected zip options ''
---------- Making package MeasurementError.cor ------------
adding build stamp to DESCRIPTION
installing NAMESPACE file and metadata
installing R files
installing inst files
installing man source files
installing indices
installing help
Note: removing empty section \details
Note: removing empty section \details
Note: removing empty section \details
Note: removing empty section \details
>>> Building/Updating help pages for package 'MeasurementError.cor'
Formats: text html latex example chm
cor.me.matrix text html latex example chm
cor.me.vector text html latex example chm
Microsoft HTML Help Compiler 4.74.8702
Compiling d:\biocbld\bbs-2.2-bioc\meat\R.INSTALL.5320\MeasurementError.cor\chm\MeasurementError.cor.chm
Compile time: 0 minutes, 0 seconds
3 Topics
4 Local links
0 Internet links
1 Graphic
Created d:\biocbld\bbs-2.2-bioc\meat\R.INSTALL.5320\MeasurementError.cor\chm\MeasurementError.cor.chm, 18,407 bytes
Compression increased file by 6,570 bytes.
adding MD5 sums
packaged installation of package 'MeasurementError.cor' as MeasurementError.cor_1.11.0.zip
* DONE (MeasurementError.cor)