MVCClass 1.13.0 Elizabeth Whalen
 | Snapshot Date: 2007-12-11 00:09:07 -0800 (Tue, 11 Dec 2007) |  | URL: https://hedgehog.fhcrc.org/bioconductor/trunk/madman/Rpacks/MVCClass |  | Last Changed Rev: 27716 / Revision: 29143 |  | Last Changed Date: 2007-10-02 18:16:39 -0700 (Tue, 02 Oct 2007) |  
  | lamb1  | Linux (SUSE 10.1) / x86_64  | [ OK ] |  OK  |  | 
| wilson2  | Linux (openSUSE 10.3) / x86_64  |  OK  |  OK  |  | 
| wellington  | Linux (openSUSE 10.3) / i686  |  OK  |  OK  |  | 
| liverpool  | Windows Server 2003 R2 (32-bit) / x64  |  OK  |  OK  |  OK  | 
| lemming  | Windows Server 2003 (32-bit) / x64  |  OK  |  OK  |  OK  | 
* checking for file 'MVCClass/DESCRIPTION' ... OK
* preparing 'MVCClass':
* checking DESCRIPTION meta-information ... OK
* installing the package to re-build vignettes
* Installing *source* package 'MVCClass' ...
** R
** inst
** help
Note: removing empty section \examples
Note: removing empty section \examples
Note: removing empty section \examples
Note: removing empty section \examples
Note: removing empty section \examples
Note: removing empty section \examples
Note: removing empty section \examples
Note: removing empty section \examples
Note: removing empty section \examples
Note: removing empty section \examples
Note: removing empty section \examples
Note: removing empty section \examples
Note: removing empty section \examples
Note: removing empty section \examples
Note: removing empty section \examples
Note: removing empty section \examples
Note: removing empty section \examples
Note: removing empty section \examples
Note: removing empty section \examples
Note: removing empty section \examples
Note: removing empty section \examples
Note: removing empty section \examples
Note: removing empty section \examples
 >>> Building/Updating help pages for package 'MVCClass'
     Formats: text html latex example 
  MVC-class                         text    html    latex
  dfModel-class                     text    html    latex
  gAddChildMessage-class            text    html    latex
  gAddDataMessage-class             text    html    latex
  gAddMessage-class                 text    html    latex
  gAddViewMessage-class             text    html    latex
  gAskAncestorMessage-class         text    html    latex
  gEventFun-class                   text    html    latex
  gMessage-class                    text    html    latex
  gModel-class                      text    html    latex
  gModifyMessage-class              text    html    latex
  gSendChildMessage-class           text    html    latex
  gSendParentMessage-class          text    html    latex
  gUpdateDataMessage-class          text    html    latex
  gUpdateMessage-class              text    html    latex
  gUpdateViewMessage-class          text    html    latex
  genView-class                     text    html    latex
  linkedModelMVC-class              text    html    latex
  plotView-class                    text    html    latex
  qqPlotView-class                  text    html    latex
  sPlotView-class                   text    html    latex
  singleModelMVC-class              text    html    latex
  spreadView-class                  text    html    latex
** building package indices ...
* DONE (MVCClass)
* creating vignettes ... OK
* removing junk files
* checking for LF line-endings in source and make files
* checking for empty or unneeded directories
* building 'MVCClass_1.13.0.tar.gz'