| LMGene 1.9.0 John Tillinghast
 
 | Snapshot Date: 2007-12-11 00:09:07 -0800 (Tue, 11 Dec 2007) |  | URL: https://hedgehog.fhcrc.org/bioconductor/trunk/madman/Rpacks/LMGene |  | Last Changed Rev: 27716 / Revision: 29143 |  | Last Changed Date: 2007-10-02 18:16:39 -0700 (Tue, 02 Oct 2007) | 
 | lamb1 | Linux (SUSE 10.1) / x86_64 | OK | OK |  | 
| wilson2 | Linux (openSUSE 10.3) / x86_64 | OK | OK |  | 
| wellington | Linux (openSUSE 10.3) / i686 | OK | OK |  | 
| liverpool | Windows Server 2003 R2 (32-bit) / x64 | OK | OK | [ OK ] | 
| lemming | Windows Server 2003 (32-bit) / x64 | OK | OK | OK | 
installing R.css in E:/biocbld/bbs-2.2-bioc/meat/LMGene.buildbin-libdir
Using auto-selected zip options ' LMGene-HELP=ziponly'
---------- Making package LMGene ------------
  adding build stamp to DESCRIPTION
  installing R files
  installing inst files
  installing data files
  installing man source files
  installing indices
  not zipping data
  installing help
Note: removing empty section \details
Note: removing empty section \note
Note: removing empty section \references
Note: removing empty section \seealso
Note: removing empty section \details
Note: removing empty section \note
Note: removing empty section \references
Note: removing empty section \seealso
Note: removing empty section \details
Note: removing empty section \note
Note: removing empty section \details
Note: removing empty section \note
Note: removing empty section \seealso
Note: removing empty section \seealso
Note: removing empty section \seealso
Note: removing empty section \seealso
Note: removing empty section \note
Note: removing empty section \references
Note: removing empty section \seealso
Note: removing empty section \note
Note: removing empty section \references
Note: removing empty section \seealso
Note: removing empty section \details
Note: removing empty section \details
Note: removing empty section \details
Note: removing empty section \note
Note: removing empty section \references
Note: removing empty section \seealso
Note: removing empty section \details
Note: removing empty section \note
Note: removing empty section \references
Note: removing empty section \seealso
 >>> Building/Updating help pages for package 'LMGene'
     Formats: text html latex example chm 
  GetLMObj                          text    html    latex   example chm
  LMGene                            text    html    latex   example chm
  genediff                          text    html    latex   example chm
  glog                              text    html    latex   example chm
  jggrad2                           text    html    latex   example chm
  jglog                             text    html    latex   example chm
  lnorm                             text    html    latex   example chm
  lnormeS                           text    html    latex   example chm
  mlm2lm                            text    html    latex   example chm
  msa                               text    html    latex   example chm
  msecalc                           text    html    latex   example chm
  msecalcmult                       text    html    latex   example chm
  neweS                             text    html    latex   example chm
  norm                              text    html    latex   example chm
  psmeans                           text    html    latex   example chm
  pvadjust                          text    html    latex   example chm
  rowaov                            text    html    latex   example chm
  rowlist                           text    html    latex   example chm
  sample.eS                         text    html    latex   example chm
  sample.ind                        text    html    latex   example chm
  sample.mat                        text    html    latex   example chm
  tranest                           text    html    latex   example chm
  tranest2                          text    html    latex   example chm
  tranestmult                       text    html    latex   example chm
  transeS                           text    html    latex   example chm
  vlist                             text    html    latex   example chm
  zipping help files
Microsoft HTML Help Compiler 4.74.8702
Compiling e:\biocbld\bbs-2.2-bioc\meat\R.INSTALL.3072\LMGene\chm\LMGene.chm
Compile time: 0 minutes, 0 seconds
27	Topics
109	Local links
19	Internet links
1	Graphic
Created e:\biocbld\bbs-2.2-bioc\meat\R.INSTALL.3072\LMGene\chm\LMGene.chm, 38,329 bytes
Compression decreased file by 40,594 bytes.
  adding MD5 sums
packaged installation of package 'LMGene' as LMGene_1.9.0.zip
* DONE (LMGene)