Icens 1.11.1 Biocore Team c/o BioC user list
 | Snapshot Date: 2007-12-11 00:09:07 -0800 (Tue, 11 Dec 2007) |  | URL: https://hedgehog.fhcrc.org/bioconductor/trunk/madman/Rpacks/Icens |  | Last Changed Rev: 28117 / Revision: 29143 |  | Last Changed Date: 2007-10-21 14:44:11 -0700 (Sun, 21 Oct 2007) |  
  | lamb1  | Linux (SUSE 10.1) / x86_64  |  OK  |  OK  |  | 
| wilson2  | Linux (openSUSE 10.3) / x86_64  |  OK  |  OK  |  | 
| wellington  | Linux (openSUSE 10.3) / i686  | [ OK ] |  OK  |  | 
| liverpool  | Windows Server 2003 R2 (32-bit) / x64  |  OK  |  OK  |  OK  | 
| lemming  | Windows Server 2003 (32-bit) / x64  |  OK  |  OK  |  OK  | 
* checking for file 'Icens/DESCRIPTION' ... OK
* preparing 'Icens':
* checking DESCRIPTION meta-information ... OK
* checking whether 'INDEX' is up-to-date ... NO
* use '--force' to overwrite the existing 'INDEX'
* removing junk files
* checking for LF line-endings in source and make files
* checking for empty or unneeded directories
* building 'Icens_1.11.1.tar.gz'