Heatplus 1.9.0 Alexander Ploner
 | Snapshot Date: 2007-12-11 00:09:07 -0800 (Tue, 11 Dec 2007) |  | URL: https://hedgehog.fhcrc.org/bioconductor/trunk/madman/Rpacks/Heatplus |  | Last Changed Rev: 27716 / Revision: 29143 |  | Last Changed Date: 2007-10-02 18:16:39 -0700 (Tue, 02 Oct 2007) |  
  | lamb1  | Linux (SUSE 10.1) / x86_64  |  OK  |  OK  |  | 
| wilson2  | Linux (openSUSE 10.3) / x86_64  |  OK  |  OK  |  | 
| wellington  | Linux (openSUSE 10.3) / i686  |  OK  |  OK  |  | 
| liverpool  | Windows Server 2003 R2 (32-bit) / x64  |  OK  |  OK  | [ OK ] | 
| lemming  | Windows Server 2003 (32-bit) / x64  |  OK  |  OK  |  OK  | 
installing R.css in E:/biocbld/bbs-2.2-bioc/meat/Heatplus.buildbin-libdir
Using auto-selected zip options ''
---------- Making package Heatplus ------------
  adding build stamp to DESCRIPTION
  installing R files
  installing inst files
  installing man source files
  installing indices
  installing help
 >>> Building/Updating help pages for package 'Heatplus'
     Formats: text html latex example chm 
  RGBColVec                         text    html    latex   example chm
  cutplot.dendrogram                text    html    latex   example chm
  heatmap_2                         text    html    latex   example chm
  heatmap_plus                      text    html    latex   example chm
  picketplot                        text    html    latex   example chm
Microsoft HTML Help Compiler 4.74.8702
Compiling e:\biocbld\bbs-2.2-bioc\meat\R.INSTALL.5524\Heatplus\chm\Heatplus.chm
Compile time: 0 minutes, 0 seconds
6	Topics
17	Local links
0	Internet links
1	Graphic
Created e:\biocbld\bbs-2.2-bioc\meat\R.INSTALL.5524\Heatplus\chm\Heatplus.chm, 28,557 bytes
Compression decreased file by 2,926 bytes.
  adding MD5 sums
packaged installation of package 'Heatplus' as Heatplus_1.9.0.zip
* DONE (Heatplus)