HEM 1.11.0 HyungJun Cho
 | Snapshot Date: 2007-12-11 00:09:07 -0800 (Tue, 11 Dec 2007) |  | URL: https://hedgehog.fhcrc.org/bioconductor/trunk/madman/Rpacks/HEM |  | Last Changed Rev: 27716 / Revision: 29143 |  | Last Changed Date: 2007-10-02 18:16:39 -0700 (Tue, 02 Oct 2007) |  
  | lamb1  | Linux (SUSE 10.1) / x86_64  |  OK  |  OK  |  | 
| wilson2  | Linux (openSUSE 10.3) / x86_64  |  OK  |  OK  |  | 
| wellington  | Linux (openSUSE 10.3) / i686  |  OK  |  OK  |  | 
| liverpool  | Windows Server 2003 R2 (32-bit) / x64  |  OK  |  OK  | [ OK ] | 
| lemming  | Windows Server 2003 (32-bit) / x64  |  OK  |  OK  |  OK  | 
installing R.css in E:/biocbld/bbs-2.2-bioc/meat/HEM.buildbin-libdir
Using auto-selected zip options 'HEM-ZIPDATA=zip HEM-HELP=ziponly'
---------- Making package HEM ------------
  adding build stamp to DESCRIPTION
  making DLL ...
making hem.d from hem.c
gcc-sjlj  -std=gnu99  -IE:/biocbld/bbs-2.2-bioc/R/include     -O3 -Wall  -c hem.c -o hem.o
windres --preprocessor="gcc-sjlj -E -xc -DRC_INVOKED" -I E:/biocbld/bbs-2.2-bioc/R/include  -i HEM_res.rc -o HEM_res.o
gcc-sjlj  -std=gnu99  -shared -s  -o HEM.dll HEM.def hem.o HEM_res.o  -LE:/biocbld/bbs-2.2-bioc/R/bin    -lR
  ... DLL made
  installing DLL
  installing R files
  installing inst files
  installing data files
  preparing package HEM for lazy loading
Loading required package: Biobase
Loading required package: tools
Welcome to Bioconductor
  Vignettes contain introductory material. To view, type
  'openVignette()'. To cite Bioconductor, see
  'citation("Biobase")' and for packages 'citation(pkgname)'.
  installing man source files
  installing indices
  zipping data
  installing help
 >>> Building/Updating help pages for package 'HEM'
     Formats: text html latex example chm 
  am.tran                           text    html    latex           chm
  am.tran.half                      text    html    latex           chm
  base.ASE.Olig                     text    html    latex           chm
  base.PSE.Olig                     text    html    latex           chm
  base.error.Olig                   text    html    latex           chm
  base.error.Olig.quanOnly          text    html    latex           chm
  boot.base.ASE.Olig                text    html    latex           chm
  boot.base.PSE.Olig                text    html    latex           chm
  boot.base.error.Olig              text    html    latex           chm
  fixbound.predict.smooth.spline    text    html    latex           chm
  hem                               text    html    latex   example chm
  hem.eb.prior                      text    html    latex   example chm
  hem.fdr                           text    html    latex   example chm
  hem.null.no                       text    html    latex           chm
  hem.null.one                      text    html    latex           chm
  hem.null.two                      text    html    latex           chm
  hem.preproc                       text    html    latex   example chm
  mubcp                             text    html    latex           chm
  nonpar.error.Olig                 text    html    latex           chm
  nonpar.no.error.Olig              text    html    latex           chm
  nonpar.rep.error.Olig             text    html    latex           chm
  par.error.Olig                    text    html    latex           chm
  par.no.error.Olig                 text    html    latex           chm
  par.rep.error.Olig                text    html    latex           chm
  pbrain                            text    html    latex           chm
  permut                            text    html    latex           chm
  quant.norm                        text    html    latex           chm
  quant.normal                      text    html    latex           chm
  quant.normal2                     text    html    latex           chm
  quant.normalize                   text    html    latex           chm
  remove.sig.genes                  text    html    latex           chm
  zipping help files
Microsoft HTML Help Compiler 4.74.8702
Compiling e:\biocbld\bbs-2.2-bioc\meat\R.INSTALL.4484\HEM\chm\HEM.chm
Compile time: 0 minutes, 0 seconds
32	Topics
71	Local links
0	Internet links
1	Graphic
Created e:\biocbld\bbs-2.2-bioc\meat\R.INSTALL.4484\HEM\chm\HEM.chm, 29,672 bytes
Compression decreased file by 30,273 bytes.
  adding MD5 sums
packaged installation of package 'HEM' as HEM_1.11.0.zip
* DONE (HEM)