GeneticsDesign 1.5.0 Weiliang Qiu
 | Snapshot Date: 2007-12-11 00:09:07 -0800 (Tue, 11 Dec 2007) |  | URL: https://hedgehog.fhcrc.org/bioconductor/trunk/madman/Rpacks/GeneticsDesign |  | Last Changed Rev: 28997 / Revision: 29143 |  | Last Changed Date: 2007-12-01 19:55:15 -0800 (Sat, 01 Dec 2007) |  
  | lamb1  | Linux (SUSE 10.1) / x86_64  |  OK  |  OK  |  | 
| wilson2  | Linux (openSUSE 10.3) / x86_64  | [ OK ] |  OK  |  | 
| wellington  | Linux (openSUSE 10.3) / i686  |  OK  |  OK  |  | 
| liverpool  | Windows Server 2003 R2 (32-bit) / x64  |  OK  |  OK  |  OK  | 
| lemming  | Windows Server 2003 (32-bit) / x64  |  OK  |  OK  |  OK  | 
* checking for file 'GeneticsDesign/DESCRIPTION' ... OK
* preparing 'GeneticsDesign':
* checking DESCRIPTION meta-information ... OK
* installing the package to re-build vignettes
/tmp/Rinst3029775604
* Installing *source* package 'GeneticsDesign' ...
** R
** inst
** preparing package for lazy loading
Loading required package: combinat
Attaching package: 'combinat'
	The following object(s) are masked from package:utils :
	 combn 
Loading required package: gdata
Loading required package: gmodels
Loading required package: gtools
Loading required package: mvtnorm
** help
Note: removing empty section \details
 >>> Building/Updating help pages for package 'GeneticsDesign'
     Formats: text html latex example 
  GPC                               text    html    latex   example
  gregorius                         text    html    latex   example
  power.casectlr                    text    html    latex   example
  power.genotype.conti              text    html    latex   example
** building package indices ...
* DONE (GeneticsDesign)
* creating vignettes ... OK
* removing junk files
* checking for LF line-endings in source and make files
* checking for empty or unneeded directories
* building 'GeneticsDesign_1.5.0.tar.gz'