| GeneSpring 2.13.0 Thon de Boer
 
 | Snapshot Date: 2007-12-11 00:09:07 -0800 (Tue, 11 Dec 2007) |  | URL: https://hedgehog.fhcrc.org/bioconductor/trunk/madman/Rpacks/GeneSpring |  | Last Changed Rev: 27716 / Revision: 29143 |  | Last Changed Date: 2007-10-02 18:16:39 -0700 (Tue, 02 Oct 2007) | 
 | lamb1 | Linux (SUSE 10.1) / x86_64 | OK | OK |  | 
| wilson2 | Linux (openSUSE 10.3) / x86_64 | OK | OK |  | 
| wellington | Linux (openSUSE 10.3) / i686 | OK | OK |  | 
| liverpool | Windows Server 2003 R2 (32-bit) / x64 | OK | [ OK ] | OK | 
| lemming | Windows Server 2003 (32-bit) / x64 | OK | OK | OK | 
* checking for working latex ... OK
* using log directory 'E:/biocbld/bbs-2.2-bioc/meat/GeneSpring.Rcheck'
* using R version 2.7.0 Under development (unstable) (2007-11-14 r43455)
* checking for file 'GeneSpring/DESCRIPTION' ... OK
* this is package 'GeneSpring' version '2.13.0'
* checking package dependencies ... OK
* checking if this is a source package ... OK
* checking whether package 'GeneSpring' can be installed ... OK
* checking package directory ... OK
* checking for portable file names ... OK
* checking DESCRIPTION meta-information ... OK
* checking top-level files ... OK
* checking index information ... OK
* checking package subdirectories ... OK
* checking R files for non-ASCII characters ... OK
* checking R files for syntax errors ... OK
* checking whether the package can be loaded ... OK
* checking whether the package can be loaded with stated dependencies ... OK
* checking for unstated dependencies in R code ... OK
* checking S3 generic/method consistency ... OK
* checking replacement functions ... OK
* checking foreign function calls ... OK
* checking R code for possible problems ... OK
* checking Rd files ... OK
* checking Rd cross-references ... OK
* checking for missing documentation entries ... OK
* checking for code/documentation mismatches ... OK
* checking Rd \usage sections ... OK
* creating GeneSpring-Ex.R ... OK
* checking examples ... OK
* checking package vignettes in 'inst/doc' ... OK
* creating GeneSpring-manual.tex ... OK
* checking GeneSpring-manual.tex ... OK
 
installing R.css in E:/biocbld/bbs-2.2-bioc/meat/GeneSpring.Rcheck
---------- Making package GeneSpring ------------
  adding build stamp to DESCRIPTION
  installing R files
  installing inst files
  preparing package GeneSpring for lazy loading
Loading required package: Biobase
Loading required package: tools
Welcome to Bioconductor
  Vignettes contain introductory material. To view, type
  'openVignette()'. To cite Bioconductor, see
  'citation("Biobase")' and for packages 'citation(pkgname)'.
  installing man source files
  installing indices
  installing help
Note: unmatched right brace in 'GSload.exp' on or after line 76
Note: removing empty section \examples
Note: unmatched right brace in 'GSload.exp.Rd' on or after line 76
Note: removing empty section \examples
Note: removing empty section \seealso
Note: removing empty section \seealso
Note: removing empty section \examples
Note: removing empty section \examples
 >>> Building/Updating help pages for package 'GeneSpring'
     Formats: text html latex example chm 
  GSint                             text    html    latex   example chm
  GSint2BC                          text    html    latex   example chm
  GSload.exp                        text    html    latex           chm
  GSload.genelist                   text    html    latex   example chm
  GSload.int                        text    html    latex           chm
  GSsave.exp                        text    html    latex   example chm
Microsoft HTML Help Compiler 4.74.8702
Compiling e:\biocbld\bbs-2.2-bioc\meat\GeneSpring.Rcheck\00_pkg_src\GeneSpring\chm\GeneSpring.chm
Compile time: 0 minutes, 0 seconds
7	Topics
40	Local links
6	Internet links
1	Graphic
Created e:\biocbld\bbs-2.2-bioc\meat\GeneSpring.Rcheck\00_pkg_src\GeneSpring\chm\GeneSpring.chm, 31,099 bytes
Compression decreased file by 10,893 bytes.
  adding MD5 sums
* DONE (GeneSpring)