BSgenome 1.7.1 H. Pages
Snapshot Date: 2007-12-11 00:09:07 -0800 (Tue, 11 Dec 2007) | URL: https://hedgehog.fhcrc.org/bioconductor/trunk/madman/Rpacks/BSgenome | Last Changed Rev: 28208 / Revision: 29143 | Last Changed Date: 2007-10-24 18:35:11 -0700 (Wed, 24 Oct 2007) |
| lamb1 | Linux (SUSE 10.1) / x86_64 | OK | OK | |
wilson2 | Linux (openSUSE 10.3) / x86_64 | OK | OK | |
wellington | Linux (openSUSE 10.3) / i686 | OK | OK | |
liverpool | Windows Server 2003 R2 (32-bit) / x64 | OK | OK | OK |
lemming | Windows Server 2003 (32-bit) / x64 | OK | OK | [ OK ] |
installing R.css in D:/biocbld/bbs-2.2-bioc/meat/BSgenome.buildbin-libdir
Using auto-selected zip options ''
---------- Making package BSgenome ------------
adding build stamp to DESCRIPTION
installing NAMESPACE file and metadata
installing R files
preparing package BSgenome for lazy loading
Loading required package: Biobase
Loading required package: tools
Welcome to Bioconductor
Vignettes contain introductory material. To view, type
'openVignette()'. To cite Bioconductor, see
'citation("Biobase")' and for packages 'citation(pkgname)'.
Loading required package: Biostrings
installing man source files
installing indices
installing help
Note: removing empty section \value
Note: removing empty section \details
Note: removing empty section \seealso
Note: removing empty section \examples
Note: removing empty section \value
Note: removing empty section \details
Note: removing empty section \seealso
Note: removing empty section \examples
Note: removing empty section \details
Note: removing empty section \details
>>> Building/Updating help pages for package 'BSgenome'
Formats: text html latex example chm
BSgenome-class text html latex example chm
available.genomes text html latex example chm
buildDataFiles text html latex chm
getSeq text html latex example chm
Microsoft HTML Help Compiler 4.74.8702
Compiling d:\biocbld\bbs-2.2-bioc\meat\R.INSTALL.4848\BSgenome\chm\BSgenome.chm
Compile time: 0 minutes, 0 seconds
5 Topics
46 Local links
0 Internet links
1 Graphic
Created d:\biocbld\bbs-2.2-bioc\meat\R.INSTALL.4848\BSgenome\chm\BSgenome.chm, 24,909 bytes
Compression decreased file by 7,940 bytes.
adding MD5 sums
packaged installation of package 'BSgenome' as BSgenome_1.7.1.zip
* DONE (BSgenome)