AnnotationDbi 1.1.6 Biocore Team c/o BioC user list
 | Snapshot Date: 2007-12-11 00:09:07 -0800 (Tue, 11 Dec 2007) |  | URL: https://hedgehog.fhcrc.org/bioconductor/trunk/madman/Rpacks/AnnotationDbi |  | Last Changed Rev: 28265 / Revision: 29143 |  | Last Changed Date: 2007-10-26 16:05:50 -0700 (Fri, 26 Oct 2007) |  
  | lamb1  | Linux (SUSE 10.1) / x86_64  |  OK  |  WARNINGS  |  | 
| wilson2  | Linux (openSUSE 10.3) / x86_64  |  OK  |  WARNINGS  |  | 
| wellington  | Linux (openSUSE 10.3) / i686  |  OK  |  WARNINGS  |  | 
| liverpool  | Windows Server 2003 R2 (32-bit) / x64  |  OK  |  WARNINGS  | [ OK ] | 
| lemming  | Windows Server 2003 (32-bit) / x64  |  OK  |  WARNINGS  |  OK  | 
installing R.css in E:/biocbld/bbs-2.2-bioc/meat/AnnotationDbi.buildbin-libdir
Using auto-selected zip options ''
---------- Making package AnnotationDbi ------------
  adding build stamp to DESCRIPTION
  installing NAMESPACE file and metadata
  installing R files
  installing inst files
  preparing package AnnotationDbi for lazy loading
Loading required package: Biobase
Loading required package: tools
Welcome to Bioconductor
  Vignettes contain introductory material. To view, type
  'openVignette()'. To cite Bioconductor, see
  'citation("Biobase")' and for packages 'citation(pkgname)'.
Loading required package: DBI
Loading required package: RSQLite
Creating a new generic function for "toString" in "AnnotationDbi"
Creating a new generic function for "rev" in "AnnotationDbi"
Creating a new generic function for "colnames" in "AnnotationDbi"
Creating a new generic function for "subset" in "AnnotationDbi"
Creating a new generic function for "head" in "AnnotationDbi"
Creating a new generic function for "tail" in "AnnotationDbi"
Creating a new generic function for "nrow" in "AnnotationDbi"
Creating a new generic function for "ncol" in "AnnotationDbi"
Creating a new generic function for "as.list" in "AnnotationDbi"
Creating a new generic function for "ls" in "AnnotationDbi"
Creating a new generic function for "mget" in "AnnotationDbi"
Creating a new generic function for "eapply" in "AnnotationDbi"
Creating a new generic function for "get" in "AnnotationDbi"
Creating a new generic function for "exists" in "AnnotationDbi"
Creating a new generic function for "sample" in "AnnotationDbi"
  installing man source files
  installing indices
  installing help
Note: removing empty section \value
Note: removing empty section \value
Note: removing empty section \details
Note: removing empty section \details
Note: removing empty section \details
Note: removing empty section \details
Note: removing empty section \value
Note: removing empty section \value
Note: removing empty section \value
Note: removing empty section \value
Note: removing empty section \value
Note: removing empty section \value
Note: removing empty section \value
Note: removing empty section \value
Note: removing empty section \value
Note: removing empty section \description
Note: removing empty section \value
Note: removing empty section \description
Note: ignoring empty \keyword entries
Note: ignoring empty \keyword entries
 >>> Building/Updating help pages for package 'AnnotationDbi'
     Formats: text html latex example chm 
  AnnDbBimap-envirAPI               text    html    latex   example chm
  AnnDbObj-class                    text    html    latex   example chm
  AnnDbPkg-checker                  text    html    latex   example chm
  AnnDbPkg-maker                    text    html    latex   example chm
  AnnotationDbi-internals           text    html    latex           chm
  Bimap-colmethods                  text    html    latex   example chm
  Bimap-direction                   text    html    latex   example chm
  Bimap-keymethods                  text    html    latex   example chm
  Bimap-toTable                     text    html    latex   example chm
  Bimap                             text    html    latex   example chm
  BimapFormatting                   text    html    latex   example chm
  GOTerms-class                     text    html    latex   example chm
  make_eg_to_go_map                 text    html    latex   example chm
  toSQLStringSet                    text    html    latex   example chm
Microsoft HTML Help Compiler 4.74.8702
Compiling e:\biocbld\bbs-2.2-bioc\meat\R.INSTALL.4792\AnnotationDbi\chm\AnnotationDbi.chm
Compile time: 0 minutes, 0 seconds
15	Topics
307	Local links
1	Internet link
1	Graphic
Created e:\biocbld\bbs-2.2-bioc\meat\R.INSTALL.4792\AnnotationDbi\chm\AnnotationDbi.chm, 44,016 bytes
Compression decreased file by 93,336 bytes.
  adding MD5 sums
packaged installation of package 'AnnotationDbi' as AnnotationDbi_1.1.6.zip
* DONE (AnnotationDbi)