AffyExpress 1.4.0 Xuejun Arthur Li
 | Snapshot Date: 2007-12-11 00:09:07 -0800 (Tue, 11 Dec 2007) |  | URL: https://hedgehog.fhcrc.org/bioconductor/trunk/madman/Rpacks/AffyExpress |  | Last Changed Rev: 28359 / Revision: 29143 |  | Last Changed Date: 2007-10-31 14:40:04 -0700 (Wed, 31 Oct 2007) |  
  | lamb1  | Linux (SUSE 10.1) / x86_64  |  OK  |  ERROR  |  | 
| wilson2  | Linux (openSUSE 10.3) / x86_64  |  OK  |  ERROR  |  | 
| wellington  | Linux (openSUSE 10.3) / i686  |  OK  |  ERROR  |  | 
| liverpool  | Windows Server 2003 R2 (32-bit) / x64  |  OK  |  OK  | [ OK ] | 
| lemming  | Windows Server 2003 (32-bit) / x64  |  OK  |  OK  |  OK  | 
installing R.css in E:/biocbld/bbs-2.2-bioc/meat/AffyExpress.buildbin-libdir
Using auto-selected zip options 'AffyExpress-ZIPDATA=zip'
---------- Making package AffyExpress ------------
  adding build stamp to DESCRIPTION
  installing NAMESPACE file and metadata
  installing R files
  installing inst files
  installing data files
  installing man source files
  installing indices
  zipping data
  installing help
 >>> Building/Updating help pages for package 'AffyExpress'
     Formats: text html latex example chm 
  AffyInteraction                   text    html    latex   example chm
  AffyQA                            text    html    latex   example chm
  AffyRegress                       text    html    latex   example chm
  Filter                            text    html    latex   example chm
  import.data                       text    html    latex   example chm
  interaction.result2html           text    html    latex   example chm
  make.contrast                     text    html    latex   example chm
  make.design                       text    html    latex   example chm
  post.interaction                  text    html    latex   example chm
  pre.process                       text    html    latex   example chm
  regress                           text    html    latex   example chm
  result2html                       text    html    latex   example chm
  select.sig.gene                   text    html    latex   example chm
  testData                          text    html    latex           chm
Microsoft HTML Help Compiler 4.74.8702
Compiling e:\biocbld\bbs-2.2-bioc\meat\R.INSTALL.1784\AffyExpress\chm\AffyExpress.chm
Compile time: 0 minutes, 1 second
15	Topics
30	Local links
0	Internet links
1	Graphic
Created e:\biocbld\bbs-2.2-bioc\meat\R.INSTALL.1784\AffyExpress\chm\AffyExpress.chm, 33,358 bytes
Compression decreased file by 18,711 bytes.
  adding MD5 sums
packaged installation of package 'AffyExpress' as AffyExpress_1.4.0.zip
* DONE (AffyExpress)