Affymoe430Expr 0.99.0 Zhicheng Ji
Snapshot Date: 2014-03-03 07:15:34 -0800 (Mon, 03 Mar 2014) | URL: https://hedgehog.fhcrc.org/bioc-data/trunk/experiment/pkgs/Affymoe430Expr | Last Changed Rev: 2701 / Revision: 2705 | Last Changed Date: 2014-02-24 16:14:41 -0800 (Mon, 24 Feb 2014) |
| zin2 | Linux (Ubuntu 12.04.4 LTS) / x86_64 | [ OK ] | WARNINGS | |
moscato2 | Windows Server 2008 R2 Enterprise SP1 (64-bit) / x64 | OK | WARNINGS | TIMEOUT |
petty | Mac OS X Snow Leopard (10.6.8) / x86_64 | OK | WARNINGS | OK |
* checking for file ‘Affymoe430Expr/DESCRIPTION’ ... OK
* preparing ‘Affymoe430Expr’:
* checking DESCRIPTION meta-information ... OK
* checking for LF line-endings in source and make files
* checking for empty or unneeded directories
* looking to see if a ‘data/datalist’ file should be added
* building ‘Affymoe430Expr_0.99.0.tar.gz’