affylmGUI 1.38.0 Keith Satterley
Snapshot Date: 2014-10-07 17:20:37 -0700 (Tue, 07 Oct 2014) | URL: https://hedgehog.fhcrc.org/bioconductor/branches/RELEASE_2_14/madman/Rpacks/affylmGUI | Last Changed Rev: 88838 / Revision: 95116 | Last Changed Date: 2014-04-11 14:07:21 -0700 (Fri, 11 Apr 2014) |
| zin2 | Linux (Ubuntu 12.04.4 LTS) / x86_64 | OK | OK | OK | |
moscato2 | Windows Server 2008 R2 Enterprise SP1 (64-bit) / x64 | [ OK ] | OK | OK | OK |
petty | Mac OS X Snow Leopard (10.6.8) / x86_64 | OK | OK | OK | OK |
morelia | Mac OS X Mavericks (10.9.5) / x86_64 | OK | OK | OK | OK |
##############################################################################
##############################################################################
###
### Running command:
###
### C:\cygwin\bin\curl.exe -O http://zin2/BBS/2.14/bioc/src/contrib/affylmGUI_1.38.0.tar.gz && E:\biocbld\bbs-2.14-bioc\R\bin\R.exe CMD INSTALL --merge-multiarch affylmGUI_1.38.0.tar.gz && rm affylmGUI_1.38.0.tar.gz
###
##############################################################################
##############################################################################
install for i386
* installing to library 'E:/biocbld/bbs-2.14-bioc/R/library'
* installing *source* package 'affylmGUI' ...
** R
** inst
** preparing package for lazy loading
Bioconductor version 2.14 (BiocInstaller 1.14.2), ?biocLite for help
** help
*** installing help indices
** building package indices
** installing vignettes
** testing if installed package can be loaded
Bioconductor version 2.14 (BiocInstaller 1.14.2), ?biocLite for help
install for x64
* installing to library 'E:/biocbld/bbs-2.14-bioc/R/library'
* installing *source* package 'affylmGUI' ...
** testing if installed package can be loaded
Bioconductor version 2.14 (BiocInstaller 1.14.2), ?biocLite for help
* DONE (affylmGUI)