DiffBind 1.10.2 Rory Stark
Snapshot Date: 2014-10-07 17:20:37 -0700 (Tue, 07 Oct 2014) | URL: https://hedgehog.fhcrc.org/bioconductor/branches/RELEASE_2_14/madman/Rpacks/DiffBind | Last Changed Rev: 92550 / Revision: 95116 | Last Changed Date: 2014-07-16 06:35:48 -0700 (Wed, 16 Jul 2014) |
| zin2 | Linux (Ubuntu 12.04.4 LTS) / x86_64 | OK | OK | [ OK ] | |
moscato2 | Windows Server 2008 R2 Enterprise SP1 (64-bit) / x64 | OK | OK | OK | OK |
petty | Mac OS X Snow Leopard (10.6.8) / x86_64 | OK | OK | OK | OK |
morelia | Mac OS X Mavericks (10.9.5) / x86_64 | OK | OK | OK | OK |
##############################################################################
##############################################################################
###
### Running command:
###
### /home/biocbuild/bbs-2.14-bioc/R/bin/R CMD check --no-vignettes --timings DiffBind_1.10.2.tar.gz
###
##############################################################################
##############################################################################
* using log directory ‘/home/biocbuild/bbs-2.14-bioc/meat/DiffBind.Rcheck’
* using R version 3.1.1 (2014-07-10)
* using platform: x86_64-unknown-linux-gnu (64-bit)
* using session charset: UTF-8
* using option ‘--no-vignettes’
* checking for file ‘DiffBind/DESCRIPTION’ ... OK
* checking extension type ... Package
* this is package ‘DiffBind’ version ‘1.10.2’
* checking package namespace information ... OK
* checking package dependencies ... OK
* checking if this is a source package ... OK
* checking if there is a namespace ... OK
* checking for hidden files and directories ... OK
* checking for portable file names ... OK
* checking for sufficient/correct file permissions ... OK
* checking whether package ‘DiffBind’ can be installed ... [22s/23s] OK
* checking installed package size ... OK
* checking package directory ... OK
* checking ‘build’ directory ... OK
* checking DESCRIPTION meta-information ... OK
* checking top-level files ... OK
* checking for left-over files ... OK
* checking index information ... OK
* checking package subdirectories ... OK
* checking R files for non-ASCII characters ... OK
* checking R files for syntax errors ... OK
* checking whether the package can be loaded ... OK
* checking whether the package can be loaded with stated dependencies ... OK
* checking whether the package can be unloaded cleanly ... OK
* checking whether the namespace can be loaded with stated dependencies ... OK
* checking whether the namespace can be unloaded cleanly ... OK
* checking dependencies in R code ... OK
* checking S3 generic/method consistency ... OK
* checking replacement functions ... OK
* checking foreign function calls ... OK
* checking R code for possible problems ... NOTE
dba.Rlsf.init: no visible global function definition for
‘dba.CRI.Rlsf.init’
dba.biocparallel.lapply: no visible global function definition for
‘bplapply’
dba.lsfR.init: no visible global function definition for
‘dba.CRI.lsfR.init’
* checking Rd files ... OK
* checking Rd metadata ... OK
* checking Rd cross-references ... OK
* checking for missing documentation entries ... OK
* checking for code/documentation mismatches ... OK
* checking Rd \usage sections ... OK
* checking Rd contents ... OK
* checking for unstated dependencies in examples ... OK
* checking contents of ‘data’ directory ... OK
* checking data for non-ASCII characters ... OK
* checking data for ASCII and uncompressed saves ... OK
* checking line endings in C/C++/Fortran sources/headers ... OK
* checking line endings in Makefiles ... OK
* checking compilation flags in Makevars ... OK
* checking for portable use of $(BLAS_LIBS) and $(LAPACK_LIBS) ... OK
* checking compiled code ... OK
* checking installed files from ‘inst/doc’ ... OK
* checking files in ‘vignettes’ ... OK
* checking examples ... [130s/129s] OK
* checking for unstated dependencies in vignettes ... OK
* checking package vignettes in ‘inst/doc’ ... OK
* checking running R code from vignettes ... SKIPPED
* checking re-building of vignette outputs ... SKIPPED
* checking PDF version of manual ... OK
NOTE: There was 1 note.
See
‘/home/biocbuild/bbs-2.14-bioc/meat/DiffBind.Rcheck/00check.log’
for details.
* installing *source* package ‘DiffBind’ ...
** libs
g++ -I/home/biocbuild/bbs-2.14-bioc/R/include -DNDEBUG -D_USE_KNETFILE -D_FILE_OFFSET_BITS=64 -D_LARGEFILE64_SOURCE -I/usr/local/include -I"/home/biocbuild/bbs-2.14-bioc/R/library/Rsamtools/include" -fpic -g -O2 -Wall -c bamReader.cpp -o bamReader.o
bamReader.cpp: In member function ‘bool bode::BamReader::isBam(const string&)’:
bamReader.cpp:14:7: warning: variable ‘rd’ set but not used [-Wunused-but-set-variable]
g++ -I/home/biocbuild/bbs-2.14-bioc/R/include -DNDEBUG -D_USE_KNETFILE -D_FILE_OFFSET_BITS=64 -D_LARGEFILE64_SOURCE -I/usr/local/include -I"/home/biocbuild/bbs-2.14-bioc/R/library/Rsamtools/include" -fpic -g -O2 -Wall -c bedReader.cpp -o bedReader.o
g++ -I/home/biocbuild/bbs-2.14-bioc/R/include -DNDEBUG -D_USE_KNETFILE -D_FILE_OFFSET_BITS=64 -D_LARGEFILE64_SOURCE -I/usr/local/include -I"/home/biocbuild/bbs-2.14-bioc/R/library/Rsamtools/include" -fpic -g -O2 -Wall -c bitBucket.cpp -o bitBucket.o
g++ -I/home/biocbuild/bbs-2.14-bioc/R/include -DNDEBUG -D_USE_KNETFILE -D_FILE_OFFSET_BITS=64 -D_LARGEFILE64_SOURCE -I/usr/local/include -I"/home/biocbuild/bbs-2.14-bioc/R/library/Rsamtools/include" -fpic -g -O2 -Wall -c croi_func.cpp -o croi_func.o
g++ -I/home/biocbuild/bbs-2.14-bioc/R/include -DNDEBUG -D_USE_KNETFILE -D_FILE_OFFSET_BITS=64 -D_LARGEFILE64_SOURCE -I/usr/local/include -I"/home/biocbuild/bbs-2.14-bioc/R/library/Rsamtools/include" -fpic -g -O2 -Wall -c croi_main.cpp -o croi_main.o
g++ -I/home/biocbuild/bbs-2.14-bioc/R/include -DNDEBUG -D_USE_KNETFILE -D_FILE_OFFSET_BITS=64 -D_LARGEFILE64_SOURCE -I/usr/local/include -I"/home/biocbuild/bbs-2.14-bioc/R/library/Rsamtools/include" -fpic -g -O2 -Wall -c densitySet.cpp -o densitySet.o
g++ -I/home/biocbuild/bbs-2.14-bioc/R/include -DNDEBUG -D_USE_KNETFILE -D_FILE_OFFSET_BITS=64 -D_LARGEFILE64_SOURCE -I/usr/local/include -I"/home/biocbuild/bbs-2.14-bioc/R/library/Rsamtools/include" -fpic -g -O2 -Wall -c iBucket.cpp -o iBucket.o
g++ -I/home/biocbuild/bbs-2.14-bioc/R/include -DNDEBUG -D_USE_KNETFILE -D_FILE_OFFSET_BITS=64 -D_LARGEFILE64_SOURCE -I/usr/local/include -I"/home/biocbuild/bbs-2.14-bioc/R/library/Rsamtools/include" -fpic -g -O2 -Wall -c interval.cpp -o interval.o
g++ -I/home/biocbuild/bbs-2.14-bioc/R/include -DNDEBUG -D_USE_KNETFILE -D_FILE_OFFSET_BITS=64 -D_LARGEFILE64_SOURCE -I/usr/local/include -I"/home/biocbuild/bbs-2.14-bioc/R/library/Rsamtools/include" -fpic -g -O2 -Wall -c intervalDensity.cpp -o intervalDensity.o
g++ -I/home/biocbuild/bbs-2.14-bioc/R/include -DNDEBUG -D_USE_KNETFILE -D_FILE_OFFSET_BITS=64 -D_LARGEFILE64_SOURCE -I/usr/local/include -I"/home/biocbuild/bbs-2.14-bioc/R/library/Rsamtools/include" -fpic -g -O2 -Wall -c intervalNode.cpp -o intervalNode.o
g++ -I/home/biocbuild/bbs-2.14-bioc/R/include -DNDEBUG -D_USE_KNETFILE -D_FILE_OFFSET_BITS=64 -D_LARGEFILE64_SOURCE -I/usr/local/include -I"/home/biocbuild/bbs-2.14-bioc/R/library/Rsamtools/include" -fpic -g -O2 -Wall -c intervalSet.cpp -o intervalSet.o
g++ -I/home/biocbuild/bbs-2.14-bioc/R/include -DNDEBUG -D_USE_KNETFILE -D_FILE_OFFSET_BITS=64 -D_LARGEFILE64_SOURCE -I/usr/local/include -I"/home/biocbuild/bbs-2.14-bioc/R/library/Rsamtools/include" -fpic -g -O2 -Wall -c intervalTree.cpp -o intervalTree.o
gcc -std=gnu99 -I/home/biocbuild/bbs-2.14-bioc/R/include -DNDEBUG -D_USE_KNETFILE -D_FILE_OFFSET_BITS=64 -D_LARGEFILE64_SOURCE -I/usr/local/include -I"/home/biocbuild/bbs-2.14-bioc/R/library/Rsamtools/include" -fpic -g -O2 -Wall -c mergeOne.c -o mergeOne.o
mergeOne.c: In function ‘mo_mergeTwo’:
mergeOne.c:351:7: warning: variable ‘keepAll’ set but not used [-Wunused-but-set-variable]
g++ -I/home/biocbuild/bbs-2.14-bioc/R/include -DNDEBUG -D_USE_KNETFILE -D_FILE_OFFSET_BITS=64 -D_LARGEFILE64_SOURCE -I/usr/local/include -I"/home/biocbuild/bbs-2.14-bioc/R/library/Rsamtools/include" -fpic -g -O2 -Wall -c nodeGroup.cpp -o nodeGroup.o
g++ -I/home/biocbuild/bbs-2.14-bioc/R/include -DNDEBUG -D_USE_KNETFILE -D_FILE_OFFSET_BITS=64 -D_LARGEFILE64_SOURCE -I/usr/local/include -I"/home/biocbuild/bbs-2.14-bioc/R/library/Rsamtools/include" -fpic -g -O2 -Wall -c reader.cpp -o reader.o
g++ -I/home/biocbuild/bbs-2.14-bioc/R/include -DNDEBUG -D_USE_KNETFILE -D_FILE_OFFSET_BITS=64 -D_LARGEFILE64_SOURCE -I/usr/local/include -I"/home/biocbuild/bbs-2.14-bioc/R/library/Rsamtools/include" -fpic -g -O2 -Wall -c sequence.cpp -o sequence.o
g++ -I/home/biocbuild/bbs-2.14-bioc/R/include -DNDEBUG -D_USE_KNETFILE -D_FILE_OFFSET_BITS=64 -D_LARGEFILE64_SOURCE -I/usr/local/include -I"/home/biocbuild/bbs-2.14-bioc/R/library/Rsamtools/include" -fpic -g -O2 -Wall -c util.cpp -o util.o
g++ -shared -L/usr/local/lib -o DiffBind.so bamReader.o bedReader.o bitBucket.o croi_func.o croi_main.o densitySet.o iBucket.o interval.o intervalDensity.o intervalNode.o intervalSet.o intervalTree.o mergeOne.o nodeGroup.o reader.o sequence.o util.o /home/biocbuild/bbs-2.14-bioc/R/library/Rsamtools/usrlib//libbam.a /home/biocbuild/bbs-2.14-bioc/R/library/Rsamtools/usrlib//libbcf.a /home/biocbuild/bbs-2.14-bioc/R/library/Rsamtools/usrlib//libtabix.a -lz -pthread -L/home/biocbuild/bbs-2.14-bioc/R/lib -lR
installing to /home/biocbuild/bbs-2.14-bioc/meat/DiffBind.Rcheck/DiffBind/libs
** R
** data
** inst
** preparing package for lazy loading
** help
*** installing help indices
** building package indices
** installing vignettes
** testing if installed package can be loaded
* DONE (DiffBind)