| topGO 2.16.0 Adrian Alexa
 
 | Snapshot Date: 2014-10-07 17:20:37 -0700 (Tue, 07 Oct 2014) |  | URL: https://hedgehog.fhcrc.org/bioconductor/branches/RELEASE_2_14/madman/Rpacks/topGO |  | Last Changed Rev: 88838 / Revision: 95116 |  | Last Changed Date: 2014-04-11 14:07:21 -0700 (Fri, 11 Apr 2014) | 
 | zin2 | Linux (Ubuntu 12.04.4 LTS) / x86_64 | OK | OK | OK |  | 
| moscato2 | Windows Server 2008 R2 Enterprise SP1 (64-bit) / x64 | OK | OK | OK | [ OK ] | 
| petty | Mac OS X Snow Leopard (10.6.8) / x86_64 | OK | OK | OK | OK | 
| morelia | Mac OS X Mavericks (10.9.5) / x86_64 | OK | OK | OK | OK | 
##############################################################################
##############################################################################
###
### Running command:
###
###   cd topGO.buildbin-libdir/topGO && zip -r ../../topGO_2.16.0.zip . & cd ../..
###
##############################################################################
##############################################################################
  adding: data/ (256 bytes security) (stored 0%)
  adding: data/geneList.rda (188 bytes security) (stored 0%)
  adding: data/GOdata.rda (188 bytes security) (deflated 1%)
  adding: data/results.tGO.rda (188 bytes security) (stored 0%)
  adding: DESCRIPTION (188 bytes security) (deflated 45%)
  adding: doc/ (256 bytes security) (stored 0%)
  adding: doc/index.html (188 bytes security) (deflated 56%)
  adding: doc/topGO.pdf (188 bytes security) (deflated 7%)
  adding: doc/topGO.R (188 bytes security) (deflated 81%)
  adding: doc/topGO.Rnw (188 bytes security) (deflated 70%)
  adding: examples/ (256 bytes security) (stored 0%)
  adding: examples/geneid2go.map (188 bytes security) (deflated 77%)
  adding: help/ (256 bytes security) (stored 0%)
  adding: help/aliases.rds (188 bytes security) (stored 0%)
  adding: help/AnIndex (188 bytes security) (deflated 86%)
  adding: help/paths.rds (188 bytes security) (stored 0%)
  adding: help/topGO.rdb (188 bytes security) (deflated 1%)
  adding: help/topGO.rdx (188 bytes security) (stored 0%)
  adding: html/ (256 bytes security) (stored 0%)
  adding: html/00Index.html (188 bytes security) (deflated 91%)
  adding: html/R.css (188 bytes security) (deflated 70%)
  adding: INDEX (188 bytes security) (deflated 61%)
  adding: MD5 (188 bytes security) (deflated 41%)
  adding: Meta/ (256 bytes security) (stored 0%)
  adding: Meta/data.rds (188 bytes security) (stored 0%)
  adding: Meta/hsearch.rds (188 bytes security) (stored 0%)
  adding: Meta/links.rds (188 bytes security) (stored 0%)
  adding: Meta/nsInfo.rds (188 bytes security) (stored 0%)
  adding: Meta/package.rds (188 bytes security) (stored 0%)
  adding: Meta/Rd.rds (188 bytes security) (stored 0%)
  adding: Meta/vignette.rds (188 bytes security) (stored 0%)
  adding: NAMESPACE (188 bytes security) (deflated 60%)
  adding: R/ (256 bytes security) (stored 0%)
  adding: R/topGO (188 bytes security) (deflated 41%)
  adding: R/topGO.rdb (188 bytes security) (deflated 32%)
  adding: R/topGO.rdx (188 bytes security) (deflated 4%)
  adding: scripts/ (256 bytes security) (stored 0%)
  adding: scripts/geneToGOscript.R (188 bytes security) (deflated 55%)
  adding: scripts/GO_ALL.R (188 bytes security) (deflated 67%)