| snpStats 1.14.0 David Clayton
 
 | Snapshot Date: 2014-10-07 17:20:37 -0700 (Tue, 07 Oct 2014) |  | URL: https://hedgehog.fhcrc.org/bioconductor/branches/RELEASE_2_14/madman/Rpacks/snpStats |  | Last Changed Rev: 88838 / Revision: 95116 |  | Last Changed Date: 2014-04-11 14:07:21 -0700 (Fri, 11 Apr 2014) | 
 | zin2 | Linux (Ubuntu 12.04.4 LTS) / x86_64 | OK | OK | WARNINGS |  | 
| moscato2 | Windows Server 2008 R2 Enterprise SP1 (64-bit) / x64 | OK | OK | WARNINGS | [ OK ] | 
| petty | Mac OS X Snow Leopard (10.6.8) / x86_64 | OK | OK | OK | OK | 
| morelia | Mac OS X Mavericks (10.9.5) / x86_64 | OK | OK | WARNINGS | OK | 
##############################################################################
##############################################################################
###
### Running command:
###
###   cd snpStats.buildbin-libdir/snpStats && zip -r ../../snpStats_1.14.0.zip . & cd ../..
###
##############################################################################
##############################################################################
  adding: data/ (256 bytes security) (stored 0%)
  adding: data/datalist (188 bytes security) (deflated 28%)
  adding: data/families.RData (188 bytes security) (stored 0%)
  adding: data/for.exercise.RData (188 bytes security) (deflated 0%)
  adding: data/ld.example.RData (188 bytes security) (stored 0%)
  adding: data/testdata.RData (188 bytes security) (deflated 0%)
  adding: DESCRIPTION (188 bytes security) (deflated 38%)
  adding: doc/ (256 bytes security) (stored 0%)
  adding: doc/data-input-vignette.pdf (188 bytes security) (deflated 8%)
  adding: doc/data-input-vignette.R (188 bytes security) (deflated 82%)
  adding: doc/data-input-vignette.Rnw (188 bytes security) (deflated 59%)
  adding: doc/differences.pdf (188 bytes security) (deflated 8%)
  adding: doc/differences.Rnw (188 bytes security) (deflated 58%)
  adding: doc/Fst-vignette.pdf (188 bytes security) (deflated 7%)
  adding: doc/Fst-vignette.R (188 bytes security) (deflated 73%)
  adding: doc/Fst-vignette.Rnw (188 bytes security) (deflated 54%)
  adding: doc/imputation-vignette.pdf (188 bytes security) (deflated 17%)
  adding: doc/imputation-vignette.R (188 bytes security) (deflated 83%)
  adding: doc/imputation-vignette.Rnw (188 bytes security) (deflated 61%)
  adding: doc/index.html (188 bytes security) (deflated 82%)
  adding: doc/ld-vignette.pdf (188 bytes security) (deflated 10%)
  adding: doc/ld-vignette.R (188 bytes security) (deflated 83%)
  adding: doc/ld-vignette.Rnw (188 bytes security) (deflated 60%)
  adding: doc/pca-vignette.pdf (188 bytes security) (deflated 6%)
  adding: doc/pca-vignette.R (188 bytes security) (deflated 71%)
  adding: doc/pca-vignette.Rnw (188 bytes security) (deflated 59%)
  adding: doc/snpStats-vignette.pdf (188 bytes security) (deflated 16%)
  adding: doc/snpStats-vignette.R (188 bytes security) (deflated 84%)
  adding: doc/snpStats-vignette.Rnw (188 bytes security) (deflated 61%)
  adding: doc/tdt-vignette.pdf (188 bytes security) (deflated 12%)
  adding: doc/tdt-vignette.R (188 bytes security) (deflated 70%)
  adding: doc/tdt-vignette.Rnw (188 bytes security) (deflated 55%)
  adding: extdata/ (256 bytes security) (stored 0%)
  adding: extdata/mach1.out.mlprob.gz (188 bytes security) (deflated 0%)
  adding: extdata/sample-long-alleles.gz (188 bytes security) (deflated 17%)
  adding: extdata/sample-long.gz (188 bytes security) (deflated 19%)
  adding: extdata/sample.bed (188 bytes security) (deflated 45%)
  adding: extdata/sample.bim (188 bytes security) (deflated 63%)
  adding: extdata/sample.fam (188 bytes security) (deflated 73%)
  adding: extdata/sample.info (188 bytes security) (deflated 55%)
  adding: extdata/sample.ped.gz (188 bytes security) (stored 0%)
  adding: help/ (256 bytes security) (stored 0%)
  adding: help/aliases.rds (188 bytes security) (stored 0%)
  adding: help/AnIndex (188 bytes security) (deflated 78%)
  adding: help/paths.rds (188 bytes security) (stored 0%)
  adding: help/snpStats.rdb (188 bytes security) (deflated 1%)
  adding: help/snpStats.rdx (188 bytes security) (stored 0%)
  adding: html/ (256 bytes security) (stored 0%)
  adding: html/00Index.html (188 bytes security) (deflated 85%)
  adding: html/R.css (188 bytes security) (deflated 70%)
  adding: INDEX (188 bytes security) (deflated 68%)
  adding: libs/ (256 bytes security) (stored 0%)
  adding: libs/i386/ (256 bytes security) (stored 0%)
  adding: libs/i386/snpStats.dll (188 bytes security) (deflated 50%)
  adding: libs/x64/ (256 bytes security) (stored 0%)
  adding: libs/x64/snpStats.dll (188 bytes security) (deflated 49%)
  adding: MD5 (188 bytes security) (deflated 49%)
  adding: Meta/ (256 bytes security) (stored 0%)
  adding: Meta/data.rds (188 bytes security) (stored 0%)
  adding: Meta/hsearch.rds (188 bytes security) (stored 0%)
  adding: Meta/links.rds (188 bytes security) (stored 0%)
  adding: Meta/nsInfo.rds (188 bytes security) (stored 0%)
  adding: Meta/package.rds (188 bytes security) (stored 0%)
  adding: Meta/Rd.rds (188 bytes security) (stored 0%)
  adding: Meta/vignette.rds (188 bytes security) (stored 0%)
  adding: NAMESPACE (188 bytes security) (deflated 55%)
  adding: R/ (256 bytes security) (stored 0%)
  adding: R/snpStats (188 bytes security) (deflated 41%)
  adding: R/snpStats.rdb (188 bytes security) (deflated 10%)
  adding: R/snpStats.rdx (188 bytes security) (stored 0%)