| MotifDb 1.6.0 Paul Shannon
 
 | Snapshot Date: 2014-10-07 17:20:37 -0700 (Tue, 07 Oct 2014) |  | URL: https://hedgehog.fhcrc.org/bioconductor/branches/RELEASE_2_14/madman/Rpacks/MotifDb |  | Last Changed Rev: 88838 / Revision: 95116 |  | Last Changed Date: 2014-04-11 14:07:21 -0700 (Fri, 11 Apr 2014) | 
 | zin2 | Linux (Ubuntu 12.04.4 LTS) / x86_64 | OK | OK | OK |  | 
| moscato2 | Windows Server 2008 R2 Enterprise SP1 (64-bit) / x64 | OK | OK | OK | [ OK ] | 
| petty | Mac OS X Snow Leopard (10.6.8) / x86_64 | OK | OK | OK | OK | 
| morelia | Mac OS X Mavericks (10.9.5) / x86_64 | OK | OK | OK | OK | 
##############################################################################
##############################################################################
###
### Running command:
###
###   cd MotifDb.buildbin-libdir/MotifDb && zip -r ../../MotifDb_1.6.0.zip . & cd ../..
###
##############################################################################
##############################################################################
  adding: DESCRIPTION (188 bytes security) (deflated 34%)
  adding: doc/ (256 bytes security) (stored 0%)
  adding: doc/index.html (188 bytes security) (deflated 57%)
  adding: doc/MotifDb.pdf (188 bytes security) (deflated 4%)
  adding: doc/MotifDb.R (188 bytes security) (deflated 82%)
  adding: doc/MotifDb.Rnw (188 bytes security) (deflated 62%)
  adding: extdata/ (256 bytes security) (stored 0%)
  adding: extdata/flyFactorSurvey.RData (188 bytes security) (deflated 2%)
  adding: extdata/hPDI.RData (188 bytes security) (deflated 2%)
  adding: extdata/jaspar.RData (188 bytes security) (deflated 2%)
  adding: extdata/jaspar2014.RData (188 bytes security) (deflated 1%)
  adding: extdata/jolma2013.RData (188 bytes security) (deflated 0%)
  adding: extdata/ScerTF.RData (188 bytes security) (deflated 0%)
  adding: extdata/stamlab.RData (188 bytes security) (deflated 2%)
  adding: extdata/uniprobe.RData (188 bytes security) (deflated 1%)
  adding: help/ (256 bytes security) (stored 0%)
  adding: help/aliases.rds (188 bytes security) (stored 0%)
  adding: help/AnIndex (188 bytes security) (deflated 65%)
  adding: help/MotifDb.rdb (188 bytes security) (deflated 1%)
  adding: help/MotifDb.rdx (188 bytes security) (stored 0%)
  adding: help/paths.rds (188 bytes security) (stored 0%)
  adding: html/ (256 bytes security) (stored 0%)
  adding: html/00Index.html (188 bytes security) (deflated 67%)
  adding: html/R.css (188 bytes security) (deflated 70%)
  adding: INDEX (188 bytes security) (deflated 51%)
  adding: LICENSE (188 bytes security) (deflated 47%)
  adding: makefile (188 bytes security) (deflated 64%)
  adding: MD5 (188 bytes security) (deflated 51%)
  adding: Meta/ (256 bytes security) (stored 0%)
  adding: Meta/hsearch.rds (188 bytes security) (stored 0%)
  adding: Meta/links.rds (188 bytes security) (stored 0%)
  adding: Meta/nsInfo.rds (188 bytes security) (stored 0%)
  adding: Meta/package.rds (188 bytes security) (stored 0%)
  adding: Meta/Rd.rds (188 bytes security) (stored 0%)
  adding: Meta/vignette.rds (188 bytes security) (stored 0%)
  adding: NAMESPACE (188 bytes security) (deflated 39%)
  adding: NEWS (188 bytes security) (deflated 40%)
  adding: R/ (256 bytes security) (stored 0%)
  adding: R/MotifDb (188 bytes security) (deflated 41%)
  adding: R/MotifDb.rdb (188 bytes security) (deflated 37%)
  adding: R/MotifDb.rdx (188 bytes security) (stored 0%)
  adding: scripts/ (256 bytes security) (stored 0%)
  adding: scripts/import/ (256 bytes security) (stored 0%)
  adding: scripts/import/demo/ (256 bytes security) (stored 0%)
  adding: scripts/import/demo/import.R (188 bytes security) (deflated 70%)
  adding: scripts/import/demo/test.R (188 bytes security) (deflated 77%)
  adding: scripts/import/fbgns.RData (188 bytes security) (stored 0%)
  adding: scripts/import/flyFactorSurvey/ (256 bytes security) (stored 0%)
  adding: scripts/import/flyFactorSurvey/import.R (188 bytes security) (deflated 72%)
  adding: scripts/import/flyFactorSurvey/test.R (188 bytes security) (deflated 74%)
  adding: scripts/import/HOCOMOCO/ (256 bytes security) (stored 0%)
  adding: scripts/import/HOCOMOCO/import_functional_only_matrices.R (188 bytes security) (deflated 69%)
  adding: scripts/import/HOCOMOCO/test.R (188 bytes security) (deflated 80%)
  adding: scripts/import/HOCOMOCO/test.txt (188 bytes security) (stored 0%)
  adding: scripts/import/hPDI/ (256 bytes security) (stored 0%)
  adding: scripts/import/hPDI/import.R (188 bytes security) (deflated 73%)
  adding: scripts/import/hPDI/test.R (188 bytes security) (deflated 77%)
  adding: scripts/import/importAll.R (188 bytes security) (deflated 43%)
  adding: scripts/import/jaspar/ (256 bytes security) (stored 0%)
  adding: scripts/import/jaspar/import.R (188 bytes security) (deflated 71%)
  adding: scripts/import/jaspar/test.R (188 bytes security) (deflated 73%)
  adding: scripts/import/jaspar2014/ (256 bytes security) (stored 0%)
  adding: scripts/import/jaspar2014/import.R (188 bytes security) (deflated 72%)
  adding: scripts/import/jaspar2014/jaspar2014/ (256 bytes security) (stored 0%)
  adding: scripts/import/jaspar2014/jaspar2014/Matrix.txt (188 bytes security) (deflated 68%)
  adding: scripts/import/jaspar2014/jaspar2014/MATRIX_ANNOTATION.txt (188 bytes security) (deflated 82%)
  adding: scripts/import/jaspar2014/jaspar2014/matrix_data.txt (188 bytes security) (deflated 58%)
  adding: scripts/import/jaspar2014/jaspar2014/MATRIX_PROTEIN.txt (188 bytes security) (deflated 56%)
  adding: scripts/import/jaspar2014/jaspar2014/MATRIX_SPECIES.txt (188 bytes security) (deflated 79%)
  adding: scripts/import/jaspar2014/md-raw.tsv (188 bytes security) (deflated 47%)
  adding: scripts/import/jaspar2014/sample.pcm (188 bytes security) (deflated 55%)
  adding: scripts/import/jaspar2014/test.R (188 bytes security) (deflated 75%)
  adding: scripts/import/jolma2013/ (256 bytes security) (stored 0%)
  adding: scripts/import/jolma2013/import.R (188 bytes security) (deflated 72%)
  adding: scripts/import/jolma2013/test.R (188 bytes security) (deflated 74%)
  adding: scripts/import/README (188 bytes security) (deflated 17%)
  adding: scripts/import/ScerTF/ (256 bytes security) (stored 0%)
  adding: scripts/import/ScerTF/import.R (188 bytes security) (deflated 70%)
  adding: scripts/import/ScerTF/test.R (188 bytes security) (deflated 76%)
  adding: scripts/import/stamlab/ (256 bytes security) (stored 0%)
  adding: scripts/import/stamlab/import.R (188 bytes security) (deflated 74%)
  adding: scripts/import/stamlab/test.R (188 bytes security) (deflated 74%)
  adding: scripts/import/uniprobe/ (256 bytes security) (stored 0%)
  adding: scripts/import/uniprobe/import.R (188 bytes security) (deflated 73%)
  adding: scripts/import/uniprobe/test.R (188 bytes security) (deflated 74%)
  adding: unitTests/ (256 bytes security) (stored 0%)
  adding: unitTests/test_MotifDb.R (188 bytes security) (deflated 76%)
  adding: vanillaTest.R (188 bytes security) (deflated 10%)