MSnbase 1.12.1 Laurent Gatto
 | Snapshot Date: 2014-10-07 17:20:37 -0700 (Tue, 07 Oct 2014) |  | URL: https://hedgehog.fhcrc.org/bioconductor/branches/RELEASE_2_14/madman/Rpacks/MSnbase |  | Last Changed Rev: 89177 / Revision: 95116 |  | Last Changed Date: 2014-04-18 05:47:58 -0700 (Fri, 18 Apr 2014) |  
  | zin2  | Linux (Ubuntu 12.04.4 LTS) / x86_64  |  OK  |  OK  |  OK  |  | 
| moscato2  | Windows Server 2008 R2 Enterprise SP1 (64-bit) / x64  |  OK  |  OK  |  OK  | [ OK ] | 
| petty  | Mac OS X Snow Leopard (10.6.8) / x86_64  |  OK  |  OK  |  OK  |  OK  | 
| morelia  | Mac OS X Mavericks (10.9.5) / x86_64  |  OK  |  OK  |  OK  |  OK  | 
##############################################################################
##############################################################################
###
### Running command:
###
###   cd MSnbase.buildbin-libdir/MSnbase && zip -r ../../MSnbase_1.12.1.zip . & cd ../..
###
##############################################################################
##############################################################################
  adding: CITATION (188 bytes security) (deflated 55%)
  adding: data/ (256 bytes security) (stored 0%)
  adding: data/Rdata.rdb (188 bytes security) (deflated 0%)
  adding: data/Rdata.rds (188 bytes security) (stored 0%)
  adding: data/Rdata.rdx (188 bytes security) (stored 0%)
  adding: DESCRIPTION (188 bytes security) (deflated 55%)
  adding: doc/ (256 bytes security) (stored 0%)
  adding: doc/index.html (188 bytes security) (deflated 73%)
  adding: doc/MSnbase-demo/ (256 bytes security) (stored 0%)
  adding: doc/MSnbase-demo.pdf (188 bytes security) (deflated 15%)
  adding: doc/MSnbase-demo.R (188 bytes security) (deflated 73%)
  adding: doc/MSnbase-demo.Rnw (188 bytes security) (deflated 69%)
  adding: doc/MSnbase-development/ (256 bytes security) (stored 0%)
  adding: doc/MSnbase-development.pdf (188 bytes security) (deflated 12%)
  adding: doc/MSnbase-development.R (188 bytes security) (deflated 73%)
  adding: doc/MSnbase-development.Rnw (188 bytes security) (deflated 68%)
  adding: doc/MSnbase-io/ (256 bytes security) (stored 0%)
  adding: doc/MSnbase-io.pdf (188 bytes security) (deflated 11%)
  adding: doc/MSnbase-io.R (188 bytes security) (deflated 70%)
  adding: doc/MSnbase-io.Rnw (188 bytes security) (deflated 68%)
  adding: extdata/ (256 bytes security) (stored 0%)
  adding: extdata/dummyiTRAQ.mzid (188 bytes security) (deflated 79%)
  adding: extdata/dummyiTRAQ.mzXML (188 bytes security) (deflated 68%)
  adding: extdata/iTRAQ4plexPurityCorrections.csv (188 bytes security) (deflated 35%)
  adding: extdata/msx.rda (188 bytes security) (deflated 0%)
  adding: extdata/test.mgf (188 bytes security) (deflated 49%)
  adding: extdata/TMT6plexPurityCorrections.csv (188 bytes security) (deflated 46%)
  adding: help/ (256 bytes security) (stored 0%)
  adding: help/aliases.rds (188 bytes security) (stored 0%)
  adding: help/AnIndex (188 bytes security) (deflated 84%)
  adding: help/MSnbase.rdb (188 bytes security) (deflated 1%)
  adding: help/MSnbase.rdx (188 bytes security) (stored 0%)
  adding: help/paths.rds (188 bytes security) (stored 0%)
  adding: html/ (256 bytes security) (stored 0%)
  adding: html/00Index.html (188 bytes security) (deflated 92%)
  adding: html/R.css (188 bytes security) (deflated 70%)
  adding: INDEX (188 bytes security) (deflated 67%)
  adding: MD5 (188 bytes security) (deflated 46%)
  adding: Meta/ (256 bytes security) (stored 0%)
  adding: Meta/data.rds (188 bytes security) (stored 0%)
  adding: Meta/hsearch.rds (188 bytes security) (stored 0%)
  adding: Meta/links.rds (188 bytes security) (stored 0%)
  adding: Meta/nsInfo.rds (188 bytes security) (stored 0%)
  adding: Meta/package.rds (188 bytes security) (stored 0%)
  adding: Meta/Rd.rds (188 bytes security) (stored 0%)
  adding: Meta/vignette.rds (188 bytes security) (stored 0%)
  adding: NAMESPACE (188 bytes security) (deflated 68%)
  adding: NEWS (188 bytes security) (deflated 71%)
  adding: R/ (256 bytes security) (stored 0%)
  adding: R/MSnbase (188 bytes security) (deflated 41%)
  adding: R/MSnbase.rdb (188 bytes security) (deflated 33%)
  adding: R/MSnbase.rdx (188 bytes security) (deflated 5%)
  adding: scripts/ (256 bytes security) (stored 0%)
  adding: scripts/msnbase.r (188 bytes security) (deflated 63%)
  adding: tests/ (256 bytes security) (stored 0%)