ChIPseeker 1.0.11 Guangchuang Yu
 | Snapshot Date: 2014-10-07 17:20:37 -0700 (Tue, 07 Oct 2014) |  | URL: https://hedgehog.fhcrc.org/bioconductor/branches/RELEASE_2_14/madman/Rpacks/ChIPseeker |  | Last Changed Rev: 93370 / Revision: 95116 |  | Last Changed Date: 2014-08-13 21:22:54 -0700 (Wed, 13 Aug 2014) |  
  | zin2  | Linux (Ubuntu 12.04.4 LTS) / x86_64  | [ OK ] |  OK  |  OK  |  | 
| moscato2  | Windows Server 2008 R2 Enterprise SP1 (64-bit) / x64  |  OK  |  OK  |  OK  |  OK  | 
| petty  | Mac OS X Snow Leopard (10.6.8) / x86_64  |  OK  |  OK  |  OK  |  OK  | 
| morelia  | Mac OS X Mavericks (10.9.5) / x86_64  |  OK  |  OK  |  OK  |  OK  | 
##############################################################################
##############################################################################
###
### Running command:
###
###   /home/biocbuild/bbs-2.14-bioc/R/bin/R CMD INSTALL ChIPseeker
###
##############################################################################
##############################################################################
* installing to library ‘/home/biocbuild/bbs-2.14-bioc/R/library’
* installing *source* package ‘ChIPseeker’ ...
** R
** data
** inst
** preparing package for lazy loading
** help
*** installing help indices
** building package indices
** installing vignettes
** testing if installed package can be loaded
* DONE (ChIPseeker)