| ceu1kgv 0.5.3 VJ Carey
 
 | Snapshot Date: 2014-04-04 06:15:32 -0700 (Fri, 04 Apr 2014) |  | URL: https://hedgehog.fhcrc.org/bioc-data/branches/RELEASE_2_13/experiment/pkgs/ceu1kgv |  | Last Changed Rev: 2688 / Revision: 2768 |  | Last Changed Date: 2014-02-18 14:55:10 -0800 (Tue, 18 Feb 2014) | 
 | zin1 | Linux (Ubuntu 12.04.4 LTS) / x86_64 | OK | WARNINGS |  | 
| moscato1 | Windows Server 2008 R2 Enterprise SP1 (64-bit) / x64 | OK | WARNINGS | [ OK ] | 
| perceval | Mac OS X Snow Leopard (10.6.8) / x86_64 | OK | WARNINGS | OK | 
  adding: code/ (256 bytes security) (stored 0%)
  adding: code/dochr3.R (188 bytes security) (deflated 54%)
  adding: code/processVCF.R (188 bytes security) (deflated 54%)
  adding: data/ (256 bytes security) (stored 0%)
  adding: data/datalist (188 bytes security) (stored 0%)
  adding: data/eset.rda (188 bytes security) (deflated 0%)
  adding: DESCRIPTION (188 bytes security) (deflated 39%)
  adding: doc/ (256 bytes security) (stored 0%)
  adding: doc/ceu1kgv.pdf (188 bytes security) (deflated 8%)
  adding: doc/ceu1kgv.R (188 bytes security) (deflated 55%)
  adding: doc/ceu1kgv.Rnw (188 bytes security) (deflated 50%)
  adding: doc/index.html (188 bytes security) (deflated 56%)
  adding: help/ (256 bytes security) (stored 0%)
  adding: help/aliases.rds (188 bytes security) (stored 0%)
  adding: help/AnIndex (188 bytes security) (deflated 62%)
  adding: help/ceu1kgv.rdb (188 bytes security) (stored 0%)
  adding: help/ceu1kgv.rdx (188 bytes security) (stored 0%)
  adding: help/paths.rds (188 bytes security) (stored 0%)
  adding: html/ (256 bytes security) (stored 0%)
  adding: html/00Index.html (188 bytes security) (deflated 61%)
  adding: html/R.css (188 bytes security) (deflated 70%)
  adding: INDEX (188 bytes security) (deflated 26%)
  adding: MD5 (188 bytes security) (deflated 48%)
  adding: Meta/ (256 bytes security) (stored 0%)
  adding: Meta/data.rds (188 bytes security) (stored 0%)
  adding: Meta/hsearch.rds (188 bytes security) (stored 0%)
  adding: Meta/links.rds (188 bytes security) (stored 0%)
  adding: Meta/nsInfo.rds (188 bytes security) (stored 0%)
  adding: Meta/package.rds (188 bytes security) (stored 0%)
  adding: Meta/Rd.rds (188 bytes security) (stored 0%)
  adding: Meta/vignette.rds (188 bytes security) (stored 0%)
  adding: NAMESPACE (188 bytes security) (stored 0%)
  adding: parts/ (256 bytes security) (stored 0%)
  adding: parts/chr1.rda (188 bytes security) (deflated 0%)
  adding: parts/chr10.rda (188 bytes security) (deflated 0%)
  adding: parts/chr11.rda (188 bytes security) (deflated 0%)
  adding: parts/chr12.rda (188 bytes security) (deflated 0%)
  adding: parts/chr13.rda (188 bytes security) (deflated 0%)
  adding: parts/chr14.rda (188 bytes security) (deflated 0%)
  adding: parts/chr15.rda (188 bytes security) (deflated 0%)
  adding: parts/chr16.rda (188 bytes security) (deflated 0%)
  adding: parts/chr17.rda (188 bytes security) (deflated 0%)
  adding: parts/chr18.rda (188 bytes security) (deflated 0%)
  adding: parts/chr19.rda (188 bytes security) (deflated 0%)
  adding: parts/chr2.rda (188 bytes security) (deflated 0%)
  adding: parts/chr20.rda (188 bytes security) (deflated 0%)
  adding: parts/chr21.rda (188 bytes security) (deflated 0%)
  adding: parts/chr22.rda (188 bytes security) (deflated 0%)
  adding: parts/chr3.rda (188 bytes security) (deflated 0%)
  adding: parts/chr4.rda (188 bytes security) (deflated 0%)
  adding: parts/chr5.rda (188 bytes security) (deflated 0%)
  adding: parts/chr6.rda (188 bytes security) (deflated 0%)
  adding: parts/chr7.rda (188 bytes security) (deflated 0%)
  adding: parts/chr8.rda (188 bytes security) (deflated 0%)
  adding: parts/chr9.rda (188 bytes security) (deflated 0%)
  adding: R/ (256 bytes security) (stored 0%)
  adding: R/ceu1kgv (188 bytes security) (deflated 41%)
  adding: R/ceu1kgv.rdb (188 bytes security) (deflated 15%)
  adding: R/ceu1kgv.rdx (188 bytes security) (stored 0%)