Back to the "Multiple platform build/check report" | A B C D E F G H I J K L M N O P Q R S [T] U V W X Y Z |
This page was generated on 2014-04-05 09:51:47 -0700 (Sat, 05 Apr 2014).
Package 714/750 | Hostname | OS / Arch | BUILD | CHECK | BUILD BIN | ||||
timecourse 1.34.0 Yu Chuan Tai
| zin1 | Linux (Ubuntu 12.04.4 LTS) / x86_64 | OK | OK | |||||
moscato1 | Windows Server 2008 R2 Enterprise SP1 (64-bit) / x64 | OK | OK | OK | |||||
perceval | Mac OS X Snow Leopard (10.6.8) / x86_64 | OK | OK | [ OK ] |
Package: timecourse |
Version: 1.34.0 |
Command: rm -rf timecourse.buildbin-libdir && mkdir timecourse.buildbin-libdir && /Users/biocbuild/BBS/utils/build-universal.sh timecourse_1.34.0.tar.gz /Library/Frameworks/R.framework/Versions/Current/Resources/bin/R timecourse.buildbin-libdir |
StartedAt: 2014-04-05 05:41:41 -0700 (Sat, 05 Apr 2014) |
EndedAt: 2014-04-05 05:41:48 -0700 (Sat, 05 Apr 2014) |
EllapsedTime: 7.4 seconds |
RetCode: 0 |
Status: OK |
PackageFile: timecourse_1.34.0.tgz |
PackageFileSize: 780 KiB |
>>>>>>> >>>>>>> INSTALLATION WITH 'R CMD INSTALL --preclean --no-multiarch --library=timecourse.buildbin-libdir timecourse_1.34.0.tar.gz' >>>>>>> * installing *source* package ‘timecourse’ ... ** R ** data ** inst ** preparing package for lazy loading Note: the specification for class “LargeDataObject” in package ‘timecourse’ seems equivalent to one from package ‘limma’: not turning on duplicate class definitions for this class. ** help *** installing help indices ** building package indices ** installing vignettes ** testing if installed package can be loaded * DONE (timecourse)