| piano 1.2.12 Leif Varemo
 
 | Snapshot Date: 2014-04-04 16:20:29 -0700 (Fri, 04 Apr 2014) |  | URL: https://hedgehog.fhcrc.org/bioconductor/branches/RELEASE_2_13/madman/Rpacks/piano |  | Last Changed Rev: 88229 / Revision: 88450 |  | Last Changed Date: 2014-04-01 00:20:26 -0700 (Tue, 01 Apr 2014) | 
 | zin1 | Linux (Ubuntu 12.04.4 LTS) / x86_64 | [ OK ] | OK |  | 
| moscato1 | Windows Server 2008 R2 Enterprise SP1 (64-bit) / x64 | OK | OK | OK | 
| perceval | Mac OS X Snow Leopard (10.6.8) / x86_64 | OK | OK | OK | 
* checking for file ‘piano/DESCRIPTION’ ... OK
* preparing ‘piano’:
* checking DESCRIPTION meta-information ... OK
* installing the package to build vignettes
* creating vignettes ... OK
* checking for LF line-endings in source and make files
* checking for empty or unneeded directories
* looking to see if a ‘data/datalist’ file should be added
* building ‘piano_1.2.12.tar.gz’