Back to the "Multiple platform build/check report" | A [B] C D E F G H I J K L M N O P Q R S T U V W X Y Z |
This page was generated on 2014-04-05 09:52:00 -0700 (Sat, 05 Apr 2014).
Package 80/750 | Hostname | OS / Arch | BUILD | CHECK | BUILD BIN | ||||
biocGraph 1.24.0 Florian Hahne
| zin1 | Linux (Ubuntu 12.04.4 LTS) / x86_64 | OK | OK | |||||
moscato1 | Windows Server 2008 R2 Enterprise SP1 (64-bit) / x64 | OK | OK | OK | |||||
perceval | Mac OS X Snow Leopard (10.6.8) / x86_64 | OK | OK | [ OK ] |
Package: biocGraph |
Version: 1.24.0 |
Command: rm -rf biocGraph.buildbin-libdir && mkdir biocGraph.buildbin-libdir && /Users/biocbuild/BBS/utils/build-universal.sh biocGraph_1.24.0.tar.gz /Library/Frameworks/R.framework/Versions/Current/Resources/bin/R biocGraph.buildbin-libdir |
StartedAt: 2014-04-05 05:15:44 -0700 (Sat, 05 Apr 2014) |
EndedAt: 2014-04-05 05:15:59 -0700 (Sat, 05 Apr 2014) |
EllapsedTime: 15.3 seconds |
RetCode: 0 |
Status: OK |
PackageFile: biocGraph_1.24.0.tgz |
PackageFileSize: 546.2 KiB |
>>>>>>> >>>>>>> INSTALLATION WITH 'R CMD INSTALL --preclean --no-multiarch --library=biocGraph.buildbin-libdir biocGraph_1.24.0.tar.gz' >>>>>>> * installing *source* package ‘biocGraph’ ... ** R ** inst ** preparing package for lazy loading ** help *** installing help indices ** building package indices ** installing vignettes ** testing if installed package can be loaded * DONE (biocGraph)