| Back to the "Multiple platform build/check report" | A B C D E F G H I J K L M N O P Q R [S] T U V W X Y Z |
This page was generated on 2014-04-05 09:47:45 -0700 (Sat, 05 Apr 2014).
| Package 664/750 | Hostname | OS / Arch | BUILD | CHECK | BUILD BIN | ||||
| SJava 0.88.0 Martin Morgan
| zin1 | Linux (Ubuntu 12.04.4 LTS) / x86_64 | [ OK ] | OK | |||||
| moscato1 | Windows Server 2008 R2 Enterprise SP1 (64-bit) / x64 | N O T S U P P O R T E D | |||||||
| perceval | Mac OS X Snow Leopard (10.6.8) / x86_64 | N O T S U P P O R T E D | |||||||
| Package: SJava |
| Version: 0.88.0 |
| Command: /home/biocbuild/bbs-2.13-bioc/R/bin/R CMD build --keep-empty-dirs --no-resave-data SJava |
| StartedAt: 2014-04-04 21:07:38 -0700 (Fri, 04 Apr 2014) |
| EndedAt: 2014-04-04 21:07:40 -0700 (Fri, 04 Apr 2014) |
| EllapsedTime: 1.8 seconds |
| RetCode: 0 |
| Status: OK |
| PackageFile: SJava_0.88.0.tar.gz |
| PackageFileSize: 2.101 MiB |
* checking for file ‘SJava/DESCRIPTION’ ... OK * preparing ‘SJava’: * checking DESCRIPTION meta-information ... OK * cleaning src * checking for LF line-endings in source and make files * checking for empty or unneeded directories * building ‘SJava_0.88.0.tar.gz’