| NuPoP 1.12.0 Ji-Ping Wang
 
 | Snapshot Date: 2014-04-04 16:20:29 -0700 (Fri, 04 Apr 2014) |  | URL: https://hedgehog.fhcrc.org/bioconductor/branches/RELEASE_2_13/madman/Rpacks/NuPoP |  | Last Changed Rev: 81642 / Revision: 88450 |  | Last Changed Date: 2013-10-14 14:29:21 -0700 (Mon, 14 Oct 2013) | 
 | zin1 | Linux (Ubuntu 12.04.4 LTS) / x86_64 | OK | OK |  | 
| moscato1 | Windows Server 2008 R2 Enterprise SP1 (64-bit) / x64 | OK | OK | OK | 
| perceval | Mac OS X Snow Leopard (10.6.8) / x86_64 | OK | OK | [ OK ] | 
>>>>>>> 
>>>>>>> INSTALLATION WITH 'R CMD INSTALL --preclean --no-multiarch --library=NuPoP.buildbin-libdir NuPoP_1.12.0.tar.gz'
>>>>>>> 
* installing *source* package ‘NuPoP’ ...
** libs
gfortran-4.2 -arch x86_64  -fno-common -g -O2  -c  vtbfb.f90 -o vtbfb.o
gfortran-4.2 -arch x86_64  -fno-common -g -O2  -c  vtbfbNL4.f90 -o vtbfbNL4.o
gfortran-4.2 -arch x86_64 -dynamiclib -Wl,-headerpad_max_install_names -undefined dynamic_lookup -single_module -multiply_defined suppress -L/usr/local/lib -L/usr/local/lib -o NuPoP.so vtbfb.o vtbfbNL4.o -F/Library/Frameworks/R.framework/.. -framework R -Wl,-framework -Wl,CoreFoundation
installing to /Users/biocbuild/bbs-2.13-bioc/meat/NuPoP.buildbin-libdir/NuPoP/libs
** R
** inst
** preparing package for lazy loading
** help
*** installing help indices
** building package indices
** installing vignettes
** testing if installed package can be loaded
* DONE (NuPoP)
>>>>>>> 
>>>>>>> FIXING LINKS FOR NuPoP.buildbin-libdir/NuPoP/libs//NuPoP.so
>>>>>>> 
install_name_tool -change "/usr/local/lib/libgcc_s.1.dylib" "/Library/Frameworks/R.framework/Versions/3.0/Resources/lib/libgcc_s.1.dylib" "NuPoP.buildbin-libdir/NuPoP/libs//NuPoP.so"
install_name_tool -change "/usr/local/lib/libgfortran.2.dylib" "/Library/Frameworks/R.framework/Versions/3.0/Resources/lib/libgfortran.2.dylib" "NuPoP.buildbin-libdir/NuPoP/libs//NuPoP.so"
install_name_tool -change "/usr/local/lib/libreadline.5.2.dylib" "/Library/Frameworks/R.framework/Versions/3.0/Resources/lib/libreadline.5.2.dylib" "NuPoP.buildbin-libdir/NuPoP/libs//NuPoP.so"
install_name_tool -change "/usr/local/lib/libreadline.dylib" "/Library/Frameworks/R.framework/Versions/3.0/Resources/lib/libreadline.dylib" "NuPoP.buildbin-libdir/NuPoP/libs//NuPoP.so"