CAGEr 1.4.1 Vanja Haberle
 | Snapshot Date: 2014-04-04 16:20:29 -0700 (Fri, 04 Apr 2014) |  | URL: https://hedgehog.fhcrc.org/bioconductor/branches/RELEASE_2_13/madman/Rpacks/CAGEr |  | Last Changed Rev: 83252 / Revision: 88450 |  | Last Changed Date: 2013-11-13 06:43:25 -0800 (Wed, 13 Nov 2013) |  
  | zin1  | Linux (Ubuntu 12.04.4 LTS) / x86_64  |  OK  |  OK  |  | 
| moscato1  | Windows Server 2008 R2 Enterprise SP1 (64-bit) / x64  |  OK  |  OK  |  OK  | 
| perceval  | Mac OS X Snow Leopard (10.6.8) / x86_64  |  OK  |  OK  | [ OK ] | 
>>>>>>> 
>>>>>>> INSTALLATION WITH 'R CMD INSTALL --preclean --no-multiarch --library=CAGEr.buildbin-libdir CAGEr_1.4.1.tar.gz'
>>>>>>> 
* installing *source* package ‘CAGEr’ ...
** R
** data
** inst
** preparing package for lazy loading
Warning: replacing previous import by ‘data.table::last’ when loading ‘CAGEr’
** help
*** installing help indices
** building package indices
** installing vignettes
** testing if installed package can be loaded
Warning: replacing previous import by ‘data.table::last’ when loading ‘CAGEr’
* DONE (CAGEr)