| Back to the "Multiple platform build/check report" | A B C D E F G H I J K L M N O P Q R S [T] U V W X Y Z |
This page was generated on 2014-04-05 09:52:48 -0700 (Sat, 05 Apr 2014).
| Package 710/750 | Hostname | OS / Arch | BUILD | CHECK | BUILD BIN | ||||
| ternarynet 1.6.0 Matthew N. McCall
| zin1 | Linux (Ubuntu 12.04.4 LTS) / x86_64 | OK | OK | |||||
| moscato1 | Windows Server 2008 R2 Enterprise SP1 (64-bit) / x64 | OK | OK | OK | |||||
| perceval | Mac OS X Snow Leopard (10.6.8) / x86_64 | OK | [ OK ] | OK |
| Package: ternarynet |
| Version: 1.6.0 |
| Command: /Library/Frameworks/R.framework/Versions/Current/Resources/bin/R CMD check --no-vignettes --timings --no-multiarch ternarynet_1.6.0.tar.gz |
| StartedAt: 2014-04-05 04:45:13 -0700 (Sat, 05 Apr 2014) |
| EndedAt: 2014-04-05 04:46:59 -0700 (Sat, 05 Apr 2014) |
| EllapsedTime: 106.2 seconds |
| RetCode: 0 |
| Status: OK |
| CheckDir: ternarynet.Rcheck |
| Warnings: 0 |
* using log directory ‘/Users/biocbuild/bbs-2.13-bioc/meat/ternarynet.Rcheck’
* using R version 3.0.3 (2014-03-06)
* using platform: x86_64-apple-darwin10.8.0 (64-bit)
* using session charset: UTF-8
* using option ‘--no-vignettes’
* checking for file ‘ternarynet/DESCRIPTION’ ... OK
* this is package ‘ternarynet’ version ‘1.6.0’
* checking package namespace information ... OK
* checking package dependencies ... OK
* checking if this is a source package ... OK
* checking if there is a namespace ... OK
* checking for hidden files and directories ... OK
* checking for portable file names ... OK
* checking for sufficient/correct file permissions ... OK
* checking whether package ‘ternarynet’ can be installed ... [5s/5s] OK
* checking installed package size ... OK
* checking package directory ... OK
* checking ‘build’ directory ... OK
* checking DESCRIPTION meta-information ... OK
* checking top-level files ... OK
* checking for left-over files ... OK
* checking index information ... OK
* checking package subdirectories ... OK
* checking R files for non-ASCII characters ... OK
* checking R files for syntax errors ... OK
* checking whether the package can be loaded ... OK
* checking whether the package can be loaded with stated dependencies ... OK
* checking whether the package can be unloaded cleanly ... OK
* checking whether the namespace can be loaded with stated dependencies ... OK
* checking whether the namespace can be unloaded cleanly ... OK
* checking dependencies in R code ... NOTE
Package in Depends field not imported from: ‘methods’
These packages need to be imported from (in the NAMESPACE file)
for when this namespace is loaded but not attached.
See the information on DESCRIPTION files in the chapter ‘Creating R
packages’ of the ‘Writing R Extensions’ manual.
* checking S3 generic/method consistency ... OK
* checking replacement functions ... OK
* checking foreign function calls ... OK
* checking R code for possible problems ... OK
* checking Rd files ... OK
* checking Rd metadata ... OK
* checking Rd cross-references ... OK
* checking for missing documentation entries ... OK
* checking for code/documentation mismatches ... OK
* checking Rd \usage sections ... OK
* checking Rd contents ... OK
* checking for unstated dependencies in examples ... OK
* checking line endings in C/C++/Fortran sources/headers ... OK
* checking line endings in Makefiles ... OK
* checking for portable use of $(BLAS_LIBS) and $(LAPACK_LIBS) ... OK
* checking compiled code ... OK
* checking sizes of PDF files under ‘inst/doc’ ... OK
* checking installed files from ‘inst/doc’ ... OK
* checking for old-style vignette sources ... NOTE
Vignette sources only in ‘inst/doc’:
‘ternarynet.Rnw’
A ‘vignettes’ directory will be required as from R 3.1.0
* checking examples ... [67s/68s] OK
Examples with CPU or elapsed time > 5s
user system elapsed
attractorSummary 6.756 0.021 6.834
plotPost 6.662 0.010 6.718
graphPosterior 6.591 0.014 6.899
tnetfit 6.576 0.014 6.609
predictAttractor 6.573 0.016 6.672
plotFit 6.560 0.022 6.707
ternaryFit-class 6.505 0.019 6.670
ternaryPost-class 6.499 0.013 6.588
tnetpost 6.488 0.018 6.612
plotTraces 6.481 0.019 6.572
* checking for unstated dependencies in vignettes ... OK
* checking package vignettes in ‘inst/doc’ ... OK
* checking running R code from vignettes ... SKIPPED
* checking re-building of vignette outputs ... SKIPPED
* checking PDF version of manual ... OK
NOTE: There were 2 notes.
See
‘/Users/biocbuild/bbs-2.13-bioc/meat/ternarynet.Rcheck/00check.log’
for details.
ternarynet.Rcheck/00install.out:
* installing *source* package ‘ternarynet’ ... ** libs llvm-g++-4.2 -arch x86_64 -I/Library/Frameworks/R.framework/Resources/include -DNDEBUG -I/usr/local/include -fPIC -mtune=core2 -g -O2 -Wall -c tnetfit.cc -o tnetfit.o tnetfit.cc: In function ‘SEXPREC* tnetfit(SEXPREC*, SEXPREC*, SEXPREC*, SEXPREC*, SEXPREC*, SEXPREC*, SEXPREC*, SEXPREC*, SEXPREC*, SEXPREC*, SEXPREC*, SEXPREC*, SEXPREC*, SEXPREC*, SEXPREC*, SEXPREC*, SEXPREC*, SEXPREC*, SEXPREC*, SEXPREC*, SEXPREC*, SEXPREC*)’: tnetfit.cc:73: warning: unused variable ‘tempi’ llvm-g++-4.2 -arch x86_64 -I/Library/Frameworks/R.framework/Resources/include -DNDEBUG -I/usr/local/include -fPIC -mtune=core2 -g -O2 -Wall -c tnetfuncs.cc -o tnetfuncs.o tnetfuncs.cc: In function ‘double AttractorDistanceForced(int, int, int, int, double, int*, int*, int*, const double*, const int*)’: tnetfuncs.cc:469: warning: unused variable ‘tableWidth’ tnetfuncs.cc:477: warning: unused variable ‘ipause’ tnetfuncs.cc: In function ‘double initialTemp(double, int, int, int, int, int, double, double, double, int, const double*, int*, int*, int*, const double*, const int*)’: tnetfuncs.cc:567: warning: unused variable ‘ipause’ tnetfuncs.cc:571: warning: unused variable ‘i’ llvm-g++-4.2 -arch x86_64 -I/Library/Frameworks/R.framework/Resources/include -DNDEBUG -I/usr/local/include -fPIC -mtune=core2 -g -O2 -Wall -c tnetpost.cc -o tnetpost.o tnetpost.cc: In function ‘SEXPREC* tnetpost(SEXPREC*, SEXPREC*, SEXPREC*, SEXPREC*, SEXPREC*, SEXPREC*, SEXPREC*, SEXPREC*, SEXPREC*, SEXPREC*, SEXPREC*, SEXPREC*, SEXPREC*, SEXPREC*, SEXPREC*, SEXPREC*, SEXPREC*, SEXPREC*, SEXPREC*, SEXPREC*, SEXPREC*, SEXPREC*, SEXPREC*, SEXPREC*, SEXPREC*, SEXPREC*, SEXPREC*, SEXPREC*, SEXPREC*, SEXPREC*, SEXPREC*, SEXPREC*)’: tnetpost.cc:25: warning: unused variable ‘ipause’ tnetpost.cc:27: warning: unused variable ‘m0fit’ tnetpost.cc:28: warning: unused variable ‘finalScore’ tnetpost.cc:30: warning: unused variable ‘l0’ tnetpost.cc:30: warning: unused variable ‘stage_count’ tnetpost.cc:30: warning: unused variable ‘tempi’ tnetpost.cc:30: warning: unused variable ‘jtrans’ tnetpost.cc:30: warning: unused variable ‘nTransition’ llvm-g++-4.2 -arch x86_64 -dynamiclib -Wl,-headerpad_max_install_names -undefined dynamic_lookup -single_module -multiply_defined suppress -L/usr/local/lib -L/usr/local/lib -o ternarynet.so tnetfit.o tnetfuncs.o tnetpost.o -F/Library/Frameworks/R.framework/.. -framework R -Wl,-framework -Wl,CoreFoundation installing to /Users/biocbuild/bbs-2.13-bioc/meat/ternarynet.Rcheck/ternarynet/libs ** R ** inst ** preparing package for lazy loading ** help *** installing help indices ** building package indices ** installing vignettes ** testing if installed package can be loaded * DONE (ternarynet)
ternarynet.Rcheck/ternarynet-Ex.timings:
| name | user | system | elapsed | |
| attractorSummary | 6.756 | 0.021 | 6.834 | |
| graphPosterior | 6.591 | 0.014 | 6.899 | |
| plotFit | 6.560 | 0.022 | 6.707 | |
| plotPost | 6.662 | 0.010 | 6.718 | |
| plotTraces | 6.481 | 0.019 | 6.572 | |
| predictAttractor | 6.573 | 0.016 | 6.672 | |
| simulateSteadyState | 0.014 | 0.001 | 0.014 | |
| ternaryFit-class | 6.505 | 0.019 | 6.670 | |
| ternaryFitParameters-class | 0.023 | 0.001 | 0.026 | |
| ternaryPost-class | 6.499 | 0.013 | 6.588 | |
| tnetfit | 6.576 | 0.014 | 6.609 | |
| tnetpost | 6.488 | 0.018 | 6.612 | |