>>>>>>>
>>>>>>> INSTALLATION WITH 'R CMD INSTALL --preclean --no-multiarch --library=spliceSites.buildbin-libdir spliceSites_1.0.0.tar.gz'
>>>>>>>
* installing *source* package ‘spliceSites’ ...
** libs
llvm-gcc-4.2 -arch x86_64 -std=gnu99 -I/Library/Frameworks/R.framework/Resources/include -DNDEBUG -I/usr/local/include -fPIC -mtune=core2 -g -O2 -Wall -c spliceSites.c -o spliceSites.o
llvm-gcc-4.2 -arch x86_64 -std=gnu99 -dynamiclib -Wl,-headerpad_max_install_names -undefined dynamic_lookup -single_module -multiply_defined suppress -L/usr/local/lib -L/usr/local/lib -o spliceSites.so spliceSites.o -lm -F/Library/Frameworks/R.framework/.. -framework R -Wl,-framework -Wl,CoreFoundation
installing to /Users/biocbuild/bbs-2.13-bioc/meat/spliceSites.buildbin-libdir/spliceSites/libs
** R
** inst
** preparing package for lazy loading
Warning: replacing previous import by ‘rbamtools::coerce’ when loading ‘spliceSites’
** help
*** installing help indices
** building package indices
** installing vignettes
** testing if installed package can be loaded
Warning: replacing previous import by ‘rbamtools::coerce’ when loading ‘spliceSites’
* DONE (spliceSites)
>>>>>>>
>>>>>>> FIXING LINKS FOR spliceSites.buildbin-libdir/spliceSites/libs//spliceSites.so
>>>>>>>
install_name_tool -change "/usr/local/lib/libgcc_s.1.dylib" "/Library/Frameworks/R.framework/Versions/3.0/Resources/lib/libgcc_s.1.dylib" "spliceSites.buildbin-libdir/spliceSites/libs//spliceSites.so"
install_name_tool -change "/usr/local/lib/libgfortran.2.dylib" "/Library/Frameworks/R.framework/Versions/3.0/Resources/lib/libgfortran.2.dylib" "spliceSites.buildbin-libdir/spliceSites/libs//spliceSites.so"
install_name_tool -change "/usr/local/lib/libreadline.5.2.dylib" "/Library/Frameworks/R.framework/Versions/3.0/Resources/lib/libreadline.5.2.dylib" "spliceSites.buildbin-libdir/spliceSites/libs//spliceSites.so"
install_name_tool -change "/usr/local/lib/libreadline.dylib" "/Library/Frameworks/R.framework/Versions/3.0/Resources/lib/libreadline.dylib" "spliceSites.buildbin-libdir/spliceSites/libs//spliceSites.so"