Back to the "Multiple platform build/check report" | A B C D E F G H I J K L M N O [P] Q R S T U V W X Y Z |
This page was generated on 2014-04-05 09:53:06 -0700 (Sat, 05 Apr 2014).
Package 542/750 | Hostname | OS / Arch | BUILD | CHECK | BUILD BIN | ||||
prebs 1.2.1 Karolis Uziela
| zin1 | Linux (Ubuntu 12.04.4 LTS) / x86_64 | OK | OK | |||||
moscato1 | Windows Server 2008 R2 Enterprise SP1 (64-bit) / x64 | OK | OK | OK | |||||
perceval | Mac OS X Snow Leopard (10.6.8) / x86_64 | OK | OK | [ OK ] |
Package: prebs |
Version: 1.2.1 |
Command: rm -rf prebs.buildbin-libdir && mkdir prebs.buildbin-libdir && /Users/biocbuild/BBS/utils/build-universal.sh prebs_1.2.1.tar.gz /Library/Frameworks/R.framework/Versions/Current/Resources/bin/R prebs.buildbin-libdir |
StartedAt: 2014-04-05 05:33:52 -0700 (Sat, 05 Apr 2014) |
EndedAt: 2014-04-05 05:34:14 -0700 (Sat, 05 Apr 2014) |
EllapsedTime: 21.5 seconds |
RetCode: 0 |
Status: OK |
PackageFile: prebs_1.2.1.tgz |
PackageFileSize: 250.3 KiB |
>>>>>>> >>>>>>> INSTALLATION WITH 'R CMD INSTALL --preclean --no-multiarch --library=prebs.buildbin-libdir prebs_1.2.1.tar.gz' >>>>>>> * installing *source* package ‘prebs’ ... ** R ** inst ** preparing package for lazy loading ** help *** installing help indices ** building package indices ** installing vignettes ** testing if installed package can be loaded * DONE (prebs)