oneChannelGUI 1.28.6 Raffaele A Calogero
 | Snapshot Date: 2014-04-04 16:20:29 -0700 (Fri, 04 Apr 2014) |  | URL: https://hedgehog.fhcrc.org/bioconductor/branches/RELEASE_2_13/madman/Rpacks/oneChannelGUI |  | Last Changed Rev: 88251 / Revision: 88450 |  | Last Changed Date: 2014-04-01 07:46:44 -0700 (Tue, 01 Apr 2014) |  
  | zin1  | Linux (Ubuntu 12.04.4 LTS) / x86_64  |  OK  |  OK  |  | 
| moscato1  | Windows Server 2008 R2 Enterprise SP1 (64-bit) / x64  |  OK  |  OK  |  OK  | 
| perceval  | Mac OS X Snow Leopard (10.6.8) / x86_64  |  OK  |  OK  | [ OK ] | 
>>>>>>> 
>>>>>>> INSTALLATION WITH 'R CMD INSTALL --preclean --no-multiarch --library=oneChannelGUI.buildbin-libdir oneChannelGUI_1.28.6.tar.gz'
>>>>>>> 
* installing *source* package ‘oneChannelGUI’ ...
** R
** data
** inst
** preparing package for lazy loading
Bioconductor version 2.13 (BiocInstaller 1.12.0), ?biocLite for help
** help
*** installing help indices
** building package indices
** installing vignettes
** testing if installed package can be loaded
Bioconductor version 2.13 (BiocInstaller 1.12.0), ?biocLite for help
* DONE (oneChannelGUI)