omicade4 1.2.2 Chen Meng
Snapshot Date: 2014-04-04 16:20:29 -0700 (Fri, 04 Apr 2014) | URL: https://hedgehog.fhcrc.org/bioconductor/branches/RELEASE_2_13/madman/Rpacks/omicade4 | Last Changed Rev: 85330 / Revision: 88450 | Last Changed Date: 2014-01-08 03:28:32 -0800 (Wed, 08 Jan 2014) |
| zin1 | Linux (Ubuntu 12.04.4 LTS) / x86_64 | OK | OK | |
moscato1 | Windows Server 2008 R2 Enterprise SP1 (64-bit) / x64 | OK | OK | OK |
perceval | Mac OS X Snow Leopard (10.6.8) / x86_64 | OK | OK | [ OK ] |
>>>>>>>
>>>>>>> INSTALLATION WITH 'R CMD INSTALL --preclean --no-multiarch --library=omicade4.buildbin-libdir omicade4_1.2.2.tar.gz'
>>>>>>>
* installing *source* package ‘omicade4’ ...
** R
** data
** inst
** preparing package for lazy loading
** help
*** installing help indices
** building package indices
** installing vignettes
** testing if installed package can be loaded
* DONE (omicade4)