| nnNorm 2.26.0 Adi Laurentiu Tarca
 
 | Snapshot Date: 2014-04-04 16:20:29 -0700 (Fri, 04 Apr 2014) |  | URL: https://hedgehog.fhcrc.org/bioconductor/branches/RELEASE_2_13/madman/Rpacks/nnNorm |  | Last Changed Rev: 81642 / Revision: 88450 |  | Last Changed Date: 2013-10-14 14:29:21 -0700 (Mon, 14 Oct 2013) | 
 | zin1 | Linux (Ubuntu 12.04.4 LTS) / x86_64 | [ OK ] | OK |  | 
| moscato1 | Windows Server 2008 R2 Enterprise SP1 (64-bit) / x64 | OK | OK | OK | 
| perceval | Mac OS X Snow Leopard (10.6.8) / x86_64 | OK | OK | OK | 
* checking for file ‘nnNorm/DESCRIPTION’ ... OK
* preparing ‘nnNorm’:
* checking DESCRIPTION meta-information ... OK
* installing the package to build vignettes
* creating vignettes ... OK
* checking for LF line-endings in source and make files
* checking for empty or unneeded directories
* building ‘nnNorm_2.26.0.tar.gz’