Back to the "Multiple platform build/check report" | A B C D E F G H I J K L [M] N O P Q R S T U V W X Y Z |
This page was generated on 2014-04-05 09:52:42 -0700 (Sat, 05 Apr 2014).
Package 473/750 | Hostname | OS / Arch | BUILD | CHECK | BUILD BIN | ||||
mzR 1.8.1 Bernd Fischer
| zin1 | Linux (Ubuntu 12.04.4 LTS) / x86_64 | OK | OK | |||||
moscato1 | Windows Server 2008 R2 Enterprise SP1 (64-bit) / x64 | OK | OK | OK | |||||
perceval | Mac OS X Snow Leopard (10.6.8) / x86_64 | [ OK ] | OK | OK |
Package: mzR |
Version: 1.8.1 |
Command: /Library/Frameworks/R.framework/Versions/Current/Resources/bin/R CMD build --keep-empty-dirs --no-resave-data mzR |
StartedAt: 2014-04-04 21:31:44 -0700 (Fri, 04 Apr 2014) |
EndedAt: 2014-04-04 21:36:30 -0700 (Fri, 04 Apr 2014) |
EllapsedTime: 285.2 seconds |
RetCode: 0 |
Status: OK |
PackageFile: mzR_1.8.1.tar.gz |
PackageFileSize: 4.511 MiB |
* checking for file ‘mzR/DESCRIPTION’ ... OK * preparing ‘mzR’: * checking DESCRIPTION meta-information ... OK * cleaning src * running ‘cleanup’ * installing the package to build vignettes * creating vignettes ... OK * cleaning src * running ‘cleanup’ * checking for LF line-endings in source and make files * checking for empty or unneeded directories WARNING: directory ‘mzR/src/boost/fusion/functional/adapter/detail’ is empty WARNING: directory ‘mzR/src/boost/fusion/functional/generation/detail’ is empty WARNING: directory ‘mzR/src/boost/fusion/functional/invocation/detail’ is empty WARNING: directory ‘mzR/src/boost/fusion/tuple/detail’ is empty WARNING: directory ‘mzR/src/boost/spirit/actor’ is empty WARNING: directory ‘mzR/src/boost/spirit/attribute’ is empty WARNING: directory ‘mzR/src/boost/spirit/core/composite’ is empty WARNING: directory ‘mzR/src/boost/spirit/core/non_terminal’ is empty WARNING: directory ‘mzR/src/boost/spirit/core/primitives’ is empty WARNING: directory ‘mzR/src/boost/spirit/core/scanner’ is empty WARNING: directory ‘mzR/src/boost/spirit/debug’ is empty WARNING: directory ‘mzR/src/boost/spirit/dynamic’ is empty WARNING: directory ‘mzR/src/boost/spirit/error_handling’ is empty WARNING: directory ‘mzR/src/boost/spirit/home/classic/actor’ is empty WARNING: directory ‘mzR/src/boost/spirit/home/classic/attribute’ is empty WARNING: directory ‘mzR/src/boost/spirit/home/classic/core/composite/impl’ is empty WARNING: directory ‘mzR/src/boost/spirit/home/classic/core/impl’ is empty WARNING: directory ‘mzR/src/boost/spirit/home/classic/core/non_terminal/impl’ is empty WARNING: directory ‘mzR/src/boost/spirit/home/classic/core/primitives/impl’ is empty WARNING: directory ‘mzR/src/boost/spirit/home/classic/core/scanner/impl’ is empty WARNING: directory ‘mzR/src/boost/spirit/home/classic/debug/impl’ is empty WARNING: directory ‘mzR/src/boost/spirit/home/classic/dynamic/impl’ is empty WARNING: directory ‘mzR/src/boost/spirit/home/classic/error_handling/impl’ is empty WARNING: directory ‘mzR/src/boost/spirit/home/classic/iterator/impl’ is empty WARNING: directory ‘mzR/src/boost/spirit/home/classic/meta/impl’ is empty WARNING: directory ‘mzR/src/boost/spirit/home/classic/phoenix’ is empty WARNING: directory ‘mzR/src/boost/spirit/home/classic/symbols/impl’ is empty WARNING: directory ‘mzR/src/boost/spirit/home/classic/tree/impl’ is empty WARNING: directory ‘mzR/src/boost/spirit/home/classic/utility/impl/chset’ is empty WARNING: directory ‘mzR/src/boost/spirit/home/lex/detail’ is empty WARNING: directory ‘mzR/src/boost/spirit/home/lex/lexer/lexertl’ is empty WARNING: directory ‘mzR/src/boost/spirit/home/lex/qi’ is empty WARNING: directory ‘mzR/src/boost/spirit/home/qi/action’ is empty WARNING: directory ‘mzR/src/boost/spirit/home/qi/auto’ is empty WARNING: directory ‘mzR/src/boost/spirit/home/qi/auxiliary’ is empty WARNING: directory ‘mzR/src/boost/spirit/home/qi/binary’ is empty WARNING: directory ‘mzR/src/boost/spirit/home/qi/char’ is empty WARNING: directory ‘mzR/src/boost/spirit/home/qi/detail’ is empty WARNING: directory ‘mzR/src/boost/spirit/home/qi/directive’ is empty WARNING: directory ‘mzR/src/boost/spirit/home/qi/nonterminal/detail’ is empty WARNING: directory ‘mzR/src/boost/spirit/home/qi/numeric/detail’ is empty WARNING: directory ‘mzR/src/boost/spirit/home/qi/operator’ is empty WARNING: directory ‘mzR/src/boost/spirit/home/qi/stream/detail’ is empty WARNING: directory ‘mzR/src/boost/spirit/home/qi/string/detail’ is empty WARNING: directory ‘mzR/src/boost/spirit/iterator’ is empty WARNING: directory ‘mzR/src/boost/spirit/meta’ is empty WARNING: directory ‘mzR/src/boost/spirit/phoenix’ is empty WARNING: directory ‘mzR/src/boost/spirit/repository/home/karma/directive’ is empty WARNING: directory ‘mzR/src/boost/spirit/repository/home/karma/nonterminal’ is empty WARNING: directory ‘mzR/src/boost/spirit/repository/home/qi/directive’ is empty WARNING: directory ‘mzR/src/boost/spirit/repository/home/qi/nonterminal’ is empty WARNING: directory ‘mzR/src/boost/spirit/repository/home/qi/primitive’ is empty WARNING: directory ‘mzR/src/boost/spirit/repository/home/support’ is empty WARNING: directory ‘mzR/src/boost/spirit/repository/include’ is empty WARNING: directory ‘mzR/src/boost/spirit/symbols’ is empty WARNING: directory ‘mzR/src/boost/spirit/tree’ is empty WARNING: directory ‘mzR/src/boost/spirit/utility’ is empty * building ‘mzR_1.8.1.tar.gz’