minfi 1.8.9 Kasper Daniel Hansen
Snapshot Date: 2014-04-04 16:20:29 -0700 (Fri, 04 Apr 2014) | URL: https://hedgehog.fhcrc.org/bioconductor/branches/RELEASE_2_13/madman/Rpacks/minfi | Last Changed Rev: 83898 / Revision: 88450 | Last Changed Date: 2013-12-04 13:13:22 -0800 (Wed, 04 Dec 2013) |
| zin1 | Linux (Ubuntu 12.04.4 LTS) / x86_64 | OK | OK | |
moscato1 | Windows Server 2008 R2 Enterprise SP1 (64-bit) / x64 | OK | OK | [ OK ] |
perceval | Mac OS X Snow Leopard (10.6.8) / x86_64 | OK | OK | OK |
adding: DESCRIPTION (188 bytes security) (deflated 51%)
adding: doc/ (256 bytes security) (stored 0%)
adding: doc/index.html (188 bytes security) (deflated 56%)
adding: doc/minfi.pdf (188 bytes security) (deflated 15%)
adding: doc/minfi.R (188 bytes security) (deflated 82%)
adding: doc/minfi.Rnw (188 bytes security) (deflated 63%)
adding: help/ (256 bytes security) (stored 0%)
adding: help/aliases.rds (188 bytes security) (stored 0%)
adding: help/AnIndex (188 bytes security) (deflated 83%)
adding: help/minfi.rdb (188 bytes security) (deflated 1%)
adding: help/minfi.rdx (188 bytes security) (stored 0%)
adding: help/paths.rds (188 bytes security) (stored 0%)
adding: html/ (256 bytes security) (stored 0%)
adding: html/00Index.html (188 bytes security) (deflated 86%)
adding: html/R.css (188 bytes security) (deflated 70%)
adding: INDEX (188 bytes security) (deflated 68%)
adding: MD5 (188 bytes security) (deflated 42%)
adding: Meta/ (256 bytes security) (stored 0%)
adding: Meta/hsearch.rds (188 bytes security) (stored 0%)
adding: Meta/links.rds (188 bytes security) (stored 0%)
adding: Meta/nsInfo.rds (188 bytes security) (stored 0%)
adding: Meta/package.rds (188 bytes security) (stored 0%)
adding: Meta/Rd.rds (188 bytes security) (stored 0%)
adding: Meta/vignette.rds (188 bytes security) (stored 0%)
adding: NAMESPACE (188 bytes security) (deflated 63%)
adding: NEWS.Rd (188 bytes security) (deflated 60%)
adding: R/ (256 bytes security) (stored 0%)
adding: R/minfi (188 bytes security) (deflated 41%)
adding: R/minfi.rdb (188 bytes security) (deflated 19%)
adding: R/minfi.rdx (188 bytes security) (stored 0%)
adding: scripts/ (256 bytes security) (stored 0%)
adding: scripts/GenomeStudio.R (188 bytes security) (deflated 74%)
adding: testData/ (256 bytes security) (stored 0%)
adding: testData/testData.R (188 bytes security) (deflated 70%)
adding: testData/testData.Rout (188 bytes security) (deflated 66%)
adding: unitTests/ (256 bytes security) (stored 0%)
adding: unitTests/testDigests.rda (188 bytes security) (stored 0%)
adding: unitTests/test_base.R (188 bytes security) (stored 0%)
adding: unitTests/test_preprocess.R (188 bytes security) (deflated 82%)
adding: unitTests/test_qc.R (188 bytes security) (deflated 29%)