Back to the "Multiple platform build/check report" | A B C D E F [G] H I J K L M N O P Q R S T U V W X Y Z |
This page was generated on 2014-04-05 09:52:28 -0700 (Sat, 05 Apr 2014).
Package 298/750 | Hostname | OS / Arch | BUILD | CHECK | BUILD BIN | ||||
genomes 2.8.0 Chris Stubben
| zin1 | Linux (Ubuntu 12.04.4 LTS) / x86_64 | OK | OK | |||||
moscato1 | Windows Server 2008 R2 Enterprise SP1 (64-bit) / x64 | OK | OK | OK | |||||
perceval | Mac OS X Snow Leopard (10.6.8) / x86_64 | OK | OK | [ OK ] |
Package: genomes |
Version: 2.8.0 |
Command: rm -rf genomes.buildbin-libdir && mkdir genomes.buildbin-libdir && /Users/biocbuild/BBS/utils/build-universal.sh genomes_2.8.0.tar.gz /Library/Frameworks/R.framework/Versions/Current/Resources/bin/R genomes.buildbin-libdir |
StartedAt: 2014-04-05 05:24:32 -0700 (Sat, 05 Apr 2014) |
EndedAt: 2014-04-05 05:24:56 -0700 (Sat, 05 Apr 2014) |
EllapsedTime: 23.9 seconds |
RetCode: 0 |
Status: OK |
PackageFile: genomes_2.8.0.tgz |
PackageFileSize: 923.3 KiB |
>>>>>>> >>>>>>> INSTALLATION WITH 'R CMD INSTALL --preclean --no-multiarch --library=genomes.buildbin-libdir genomes_2.8.0.tar.gz' >>>>>>> * installing *source* package ‘genomes’ ... ** R ** data ** inst ** preparing package for lazy loading ** help *** installing help indices ** building package indices ** installing vignettes ** testing if installed package can be loaded * DONE (genomes)