| flipflop 1.0.1 Elsa Bernard
 
 | Snapshot Date: 2014-04-04 16:20:29 -0700 (Fri, 04 Apr 2014) |  | URL: https://hedgehog.fhcrc.org/bioconductor/branches/RELEASE_2_13/madman/Rpacks/flipflop |  | Last Changed Rev: 81983 / Revision: 88450 |  | Last Changed Date: 2013-10-22 05:37:02 -0700 (Tue, 22 Oct 2013) | 
 | zin1 | Linux (Ubuntu 12.04.4 LTS) / x86_64 | OK | WARNINGS |  | 
| moscato1 | Windows Server 2008 R2 Enterprise SP1 (64-bit) / x64 | OK | WARNINGS | OK | 
| perceval | Mac OS X Snow Leopard (10.6.8) / x86_64 | [ OK ] | WARNINGS | OK | 
* checking for file ‘flipflop/DESCRIPTION’ ... OK
* preparing ‘flipflop’:
* checking DESCRIPTION meta-information ... OK
* cleaning src
* installing the package to build vignettes
* creating vignettes ... OK
* cleaning src
* checking for LF line-endings in source and make files
* checking for empty or unneeded directories
* building ‘flipflop_1.0.1.tar.gz’