Back to the "Multiple platform build/check report" | A B [C] D E F G H I J K L M N O P Q R S T U V W X Y Z |
This page was generated on 2014-04-05 09:53:08 -0700 (Sat, 05 Apr 2014).
Package 182/750 | Hostname | OS / Arch | BUILD | CHECK | BUILD BIN | ||||
customProDB 1.2.0 xiaojing wang
| zin1 | Linux (Ubuntu 12.04.4 LTS) / x86_64 | OK | OK | |||||
moscato1 | Windows Server 2008 R2 Enterprise SP1 (64-bit) / x64 | OK | OK | OK | |||||
perceval | Mac OS X Snow Leopard (10.6.8) / x86_64 | OK | OK | [ OK ] |
Package: customProDB |
Version: 1.2.0 |
Command: rm -rf customProDB.buildbin-libdir && mkdir customProDB.buildbin-libdir && /Users/biocbuild/BBS/utils/build-universal.sh customProDB_1.2.0.tar.gz /Library/Frameworks/R.framework/Versions/Current/Resources/bin/R customProDB.buildbin-libdir |
StartedAt: 2014-04-05 05:19:41 -0700 (Sat, 05 Apr 2014) |
EndedAt: 2014-04-05 05:20:14 -0700 (Sat, 05 Apr 2014) |
EllapsedTime: 32.6 seconds |
RetCode: 0 |
Status: OK |
PackageFile: customProDB_1.2.0.tgz |
PackageFileSize: 711.9 KiB |
>>>>>>> >>>>>>> INSTALLATION WITH 'R CMD INSTALL --preclean --no-multiarch --library=customProDB.buildbin-libdir customProDB_1.2.0.tar.gz' >>>>>>> * installing *source* package ‘customProDB’ ... ** R ** inst ** preparing package for lazy loading ** help *** installing help indices ** building package indices ** installing vignettes ** testing if installed package can be loaded * DONE (customProDB)