BioC 2.13: CHECK report for aroma.light on moscato1
This page was generated on 2014-04-05 09:49:21 -0700 (Sat, 05 Apr 2014).
aroma.light 1.32.0 Henrik Bengtsson
Snapshot Date: 2014-04-04 16:20:29 -0700 (Fri, 04 Apr 2014) | URL: https://hedgehog.fhcrc.org/bioconductor/branches/RELEASE_2_13/madman/Rpacks/aroma.light | Last Changed Rev: 81657 / Revision: 88450 | Last Changed Date: 2013-10-14 18:04:45 -0700 (Mon, 14 Oct 2013) |
| zin1 | Linux (Ubuntu 12.04.4 LTS) / x86_64 | OK | OK | |
moscato1 | Windows Server 2008 R2 Enterprise SP1 (64-bit) / x64 | OK | [ OK ] | OK |
perceval | Mac OS X Snow Leopard (10.6.8) / x86_64 | OK | OK | OK |
Summary
Package: aroma.light
|
Version: 1.32.0
|
Command: rm -rf aroma.light.buildbin-libdir && mkdir aroma.light.buildbin-libdir && D:\biocbld\bbs-2.13-bioc\R\bin\R.exe CMD INSTALL --build --merge-multiarch --library=aroma.light.buildbin-libdir aroma.light_1.32.0.tar.gz >aroma.light-install.out 2>&1 && D:\biocbld\bbs-2.13-bioc\R\bin\R.exe CMD check --library=aroma.light.buildbin-libdir --install="check:aroma.light-install.out" --force-multiarch --no-vignettes --timings aroma.light_1.32.0.tar.gz && mv aroma.light.buildbin-libdir/* aroma.light.Rcheck/ && rmdir aroma.light.buildbin-libdir
|
StartedAt: 2014-04-05 02:13:51 -0700 (Sat, 05 Apr 2014)
|
EndedAt: 2014-04-05 02:16:02 -0700 (Sat, 05 Apr 2014)
|
EllapsedTime: 131.1 seconds
|
RetCode: 0
|
Status: OK
|
CheckDir: aroma.light.Rcheck
|
Warnings: 0
|
Command output
* using log directory 'D:/biocbld/bbs-2.13-bioc/meat/aroma.light.Rcheck'
* using R version 3.0.3 (2014-03-06)
* using platform: i386-w64-mingw32 (32-bit)
* using session charset: ISO8859-1
* using option '--no-vignettes'
* checking for file 'aroma.light/DESCRIPTION' ... OK
* this is package 'aroma.light' version '1.32.0'
* package encoding: latin1
* checking package namespace information ... OK
* checking package dependencies ... OK
* checking if this is a source package ... OK
* checking if there is a namespace ... OK
* checking for hidden files and directories ... NOTE
Found the following hidden files and directories:
inst/rsp/.rspPlugins
These were most likely included in error. See section 'Package
structure' in the 'Writing R Extensions' manual.
* checking for portable file names ... OK
* checking whether package 'aroma.light' can be installed ... OK
* checking installed package size ... OK
* checking package directory ... OK
* checking DESCRIPTION meta-information ... OK
* checking top-level files ... OK
* checking for left-over files ... OK
* checking index information ... OK
* checking package subdirectories ... OK
* checking R files for non-ASCII characters ... OK
* checking R files for syntax errors ... OK
* loading checks for arch 'i386'
** checking whether the package can be loaded ... OK
** checking whether the package can be loaded with stated dependencies ... OK
** checking whether the package can be unloaded cleanly ... OK
** checking whether the namespace can be loaded with stated dependencies ... OK
** checking whether the namespace can be unloaded cleanly ... OK
* loading checks for arch 'x64'
** checking whether the package can be loaded ... OK
** checking whether the package can be loaded with stated dependencies ... OK
** checking whether the package can be unloaded cleanly ... OK
** checking whether the namespace can be loaded with stated dependencies ... OK
** checking whether the namespace can be unloaded cleanly ... OK
* checking dependencies in R code ... OK
* checking S3 generic/method consistency ... OK
* checking replacement functions ... OK
* checking foreign function calls ... OK
* checking R code for possible problems ... OK
* checking Rd files ... OK
* checking Rd metadata ... OK
* checking Rd cross-references ... OK
* checking for missing documentation entries ... OK
* checking for code/documentation mismatches ... OK
* checking Rd \usage sections ... OK
* checking Rd contents ... OK
* checking for unstated dependencies in examples ... OK
* checking examples ...
** running examples for arch 'i386' ... [40s] OK
Examples with CPU or elapsed time > 5s
user system elapsed
normalizeCurveFit 16.21 0 16.36
normalizeAffine 16.08 0 16.08
** running examples for arch 'x64' ... [39s] OK
Examples with CPU or elapsed time > 5s
user system elapsed
normalizeCurveFit 15.71 0.00 16.04
normalizeAffine 15.46 0.02 15.48
* checking PDF version of manual ... OK
NOTE: There was 1 note.
See
'D:/biocbld/bbs-2.13-bioc/meat/aroma.light.Rcheck/00check.log'
for details.
aroma.light.Rcheck/00install.out:
install for i386
* installing *source* package 'aroma.light' ...
** R
** inst
** preparing package for lazy loading
** help
*** installing help indices
** building package indices
** testing if installed package can be loaded
install for x64
* installing *source* package 'aroma.light' ...
** testing if installed package can be loaded
* MD5 sums
packaged installation of 'aroma.light' as aroma.light_1.32.0.zip
* DONE (aroma.light)
aroma.light.Rcheck/examples_i386/aroma.light-Ex.timings:
name | user | system | elapsed
|
backtransformAffine | 0.01 | 0.00 | 0.02 |
|
backtransformPrincipalCurve | 0.61 | 0.00 | 0.60 |
|
calibrateMultiscan | 0 | 0 | 0 |
|
callNaiveGenotypes | 0.80 | 0.00 | 0.79 |
|
distanceBetweenLines | 0.04 | 0.00 | 0.03 |
|
findPeaksAndValleys | 0.07 | 0.00 | 0.08 |
|
fitPrincipalCurve | 0.50 | 0.02 | 0.51 |
|
fitXYCurve | 0.07 | 0.03 | 0.10 |
|
iwpca | 0.03 | 0.00 | 0.03 |
|
likelihood.smooth.spline | 0.17 | 0.00 | 0.17 |
|
medianPolish | 0.02 | 0.00 | 0.02 |
|
normalizeAffine | 16.08 | 0.00 | 16.08 |
|
normalizeCurveFit | 16.21 | 0.00 | 16.36 |
|
normalizeDifferencesToAverage | 0.33 | 0.00 | 0.33 |
|
normalizeFragmentLength | 1.01 | 0.02 | 1.03 |
|
normalizeQuantileRank | 0.25 | 0.00 | 0.25 |
|
normalizeQuantileRank.matrix | 0.08 | 0.00 | 0.08 |
|
normalizeQuantileSpline | 1.17 | 0.01 | 1.18 |
|
normalizeTumorBoost | 0.28 | 0.02 | 0.30 |
|
robustSmoothSpline | 0.08 | 0.00 | 0.07 |
|
sampleCorrelations | 0.54 | 0.00 | 0.55 |
|
sampleTuples | 0 | 0 | 0 |
|
wpca | 0.14 | 0.00 | 0.23 |
|
aroma.light.Rcheck/examples_x64/aroma.light-Ex.timings:
name | user | system | elapsed
|
backtransformAffine | 0.05 | 0.00 | 0.05 |
|
backtransformPrincipalCurve | 0.59 | 0.02 | 0.68 |
|
calibrateMultiscan | 0 | 0 | 0 |
|
callNaiveGenotypes | 0.81 | 0.00 | 0.82 |
|
distanceBetweenLines | 0.03 | 0.00 | 0.03 |
|
findPeaksAndValleys | 0.07 | 0.00 | 0.06 |
|
fitPrincipalCurve | 0.48 | 0.03 | 0.51 |
|
fitXYCurve | 0.08 | 0.00 | 0.08 |
|
iwpca | 0.08 | 0.00 | 0.08 |
|
likelihood.smooth.spline | 0.17 | 0.00 | 0.17 |
|
medianPolish | 0.03 | 0.00 | 0.03 |
|
normalizeAffine | 15.46 | 0.02 | 15.48 |
|
normalizeCurveFit | 15.71 | 0.00 | 16.04 |
|
normalizeDifferencesToAverage | 0.28 | 0.00 | 0.28 |
|
normalizeFragmentLength | 0.92 | 0.01 | 0.94 |
|
normalizeQuantileRank | 0.27 | 0.00 | 0.26 |
|
normalizeQuantileRank.matrix | 0.09 | 0.00 | 0.10 |
|
normalizeQuantileSpline | 1.19 | 0.00 | 1.18 |
|
normalizeTumorBoost | 0.28 | 0.02 | 0.30 |
|
robustSmoothSpline | 0.07 | 0.02 | 0.08 |
|
sampleCorrelations | 0.60 | 0.00 | 0.59 |
|
sampleTuples | 0 | 0 | 0 |
|
wpca | 0.14 | 0.00 | 0.76 |
|