affxparser 1.34.2 Kasper Daniel Hansen
 | Snapshot Date: 2014-04-04 16:20:29 -0700 (Fri, 04 Apr 2014) |  | URL: https://hedgehog.fhcrc.org/bioconductor/branches/RELEASE_2_13/madman/Rpacks/affxparser |  | Last Changed Rev: 86938 / Revision: 88450 |  | Last Changed Date: 2014-02-28 13:13:29 -0800 (Fri, 28 Feb 2014) |  
  | zin1  | Linux (Ubuntu 12.04.4 LTS) / x86_64  |  OK  |  WARNINGS  |  | 
| moscato1  | Windows Server 2008 R2 Enterprise SP1 (64-bit) / x64  |  OK  |  OK  |  OK  | 
| perceval  | Mac OS X Snow Leopard (10.6.8) / x86_64  | [ OK ] |  WARNINGS  |  OK  | 
* checking for file ‘affxparser/DESCRIPTION’ ... OK
* preparing ‘affxparser’:
* checking DESCRIPTION meta-information ... OK
* cleaning src
* running ‘cleanup’
* checking for LF line-endings in source and make files
* checking for empty or unneeded directories
* building ‘affxparser_1.34.2.tar.gz’
Warning in utils::tar(filepath, pkgname, compression = "gzip", compression_level = 9L,  :
  storing paths of more than 100 bytes is not portable:
  ‘affxparser/src/fusion_sdk/calvin_files/writers/src/CalvinCHPQuantificationDetectionFileBufferWriter.cpp’
Warning in utils::tar(filepath, pkgname, compression = "gzip", compression_level = 9L,  :
  storing paths of more than 100 bytes is not portable:
  ‘affxparser/src/fusion_sdk/calvin_files/writers/src/CalvinCHPQuantificationDetectionFileBufferWriter.h’