SeqArray 1.2.1 Xiuwen Zheng
 | Snapshot Date: 2014-04-04 16:20:29 -0700 (Fri, 04 Apr 2014) |  | URL: https://hedgehog.fhcrc.org/bioconductor/branches/RELEASE_2_13/madman/Rpacks/SeqArray |  | Last Changed Rev: 86057 / Revision: 88450 |  | Last Changed Date: 2014-02-04 10:03:14 -0800 (Tue, 04 Feb 2014) |  
  | zin1  | Linux (Ubuntu 12.04.4 LTS) / x86_64  |  OK  |  OK  |  | 
| moscato1  | Windows Server 2008 R2 Enterprise SP1 (64-bit) / x64  |  OK  |  OK  |  OK  | 
| perceval  | Mac OS X Snow Leopard (10.6.8) / x86_64  |  OK  |  OK  | [ OK ] | 
>>>>>>> 
>>>>>>> INSTALLATION WITH 'R CMD INSTALL --preclean --no-multiarch --library=SeqArray.buildbin-libdir SeqArray_1.2.1.tar.gz'
>>>>>>> 
* installing *source* package ‘SeqArray’ ...
** libs
llvm-g++-4.2 -arch x86_64 -I/Library/Frameworks/R.framework/Resources/include -DNDEBUG -I. -DCOREARRAY_NO_FORCEINLINE -DCOREARRAY_R_LINK -I/usr/local/include    -fPIC  -mtune=core2 -g -O2 -Wall  -c CoreGDSLink.cpp -o CoreGDSLink.o
llvm-g++-4.2 -arch x86_64 -I/Library/Frameworks/R.framework/Resources/include -DNDEBUG -I. -DCOREARRAY_NO_FORCEINLINE -DCOREARRAY_R_LINK -I/usr/local/include    -fPIC  -mtune=core2 -g -O2 -Wall  -c SeqArray.cpp -o SeqArray.o
llvm-g++-4.2 -arch x86_64 -dynamiclib -Wl,-headerpad_max_install_names -undefined dynamic_lookup -single_module -multiply_defined suppress -L/usr/local/lib -L/usr/local/lib -o SeqArray.so CoreGDSLink.o SeqArray.o -L/usr/local/lib/gcc/i686-apple-darwin8/4.2.3/x86_64 -L/usr/local/lib/x86_64 -L/usr/local/lib/gcc/i686-apple-darwin8/4.2.3 -lgfortran -L/Library/Frameworks/R.framework/Resources/lib -lRblas -L/Library/Frameworks/R.framework/Resources/lib -lRlapack -F/Library/Frameworks/R.framework/.. -framework R -Wl,-framework -Wl,CoreFoundation
installing to /Users/biocbuild/bbs-2.13-bioc/meat/SeqArray.buildbin-libdir/SeqArray/libs
** R
** inst
** preparing package for lazy loading
** help
*** installing help indices
** building package indices
** installing vignettes
** testing if installed package can be loaded
* DONE (SeqArray)
>>>>>>> 
>>>>>>> FIXING LINKS FOR SeqArray.buildbin-libdir/SeqArray/libs//SeqArray.so
>>>>>>> 
install_name_tool -change "/usr/local/lib/libgcc_s.1.dylib" "/Library/Frameworks/R.framework/Versions/3.0/Resources/lib/libgcc_s.1.dylib" "SeqArray.buildbin-libdir/SeqArray/libs//SeqArray.so"
install_name_tool -change "/usr/local/lib/libgfortran.2.dylib" "/Library/Frameworks/R.framework/Versions/3.0/Resources/lib/libgfortran.2.dylib" "SeqArray.buildbin-libdir/SeqArray/libs//SeqArray.so"
install_name_tool -change "/usr/local/lib/libreadline.5.2.dylib" "/Library/Frameworks/R.framework/Versions/3.0/Resources/lib/libreadline.5.2.dylib" "SeqArray.buildbin-libdir/SeqArray/libs//SeqArray.so"
install_name_tool -change "/usr/local/lib/libreadline.dylib" "/Library/Frameworks/R.framework/Versions/3.0/Resources/lib/libreadline.dylib" "SeqArray.buildbin-libdir/SeqArray/libs//SeqArray.so"