adding: data/ (256 bytes security) (stored 0%)
adding: data/hiv.data.RData (188 bytes security) (deflated 26%)
adding: DESCRIPTION (188 bytes security) (deflated 41%)
adding: doc/ (256 bytes security) (stored 0%)
adding: doc/ClassDiagram.pdf (188 bytes security) (deflated 0%)
adding: doc/ExtendedVignette.pdf (188 bytes security) (deflated 19%)
adding: doc/index.html (188 bytes security) (deflated 66%)
adding: doc/Rtreemix.bib (188 bytes security) (deflated 65%)
adding: doc/Rtreemix.pdf (188 bytes security) (deflated 4%)
adding: doc/Rtreemix.R (188 bytes security) (deflated 78%)
adding: doc/Rtreemix.Rnw (188 bytes security) (deflated 67%)
adding: doc/topologies.pdf (188 bytes security) (deflated 90%)
adding: doc/treemix.pat (188 bytes security) (deflated 23%)
adding: examples/ (256 bytes security) (stored 0%)
adding: examples/script.R (188 bytes security) (deflated 74%)
adding: examples/treemix.pat (188 bytes security) (deflated 23%)
adding: help/ (256 bytes security) (stored 0%)
adding: help/aliases.rds (188 bytes security) (stored 0%)
adding: help/AnIndex (188 bytes security) (deflated 84%)
adding: help/paths.rds (188 bytes security) (stored 0%)
adding: help/Rtreemix.rdb (188 bytes security) (deflated 1%)
adding: help/Rtreemix.rdx (188 bytes security) (stored 0%)
adding: html/ (256 bytes security) (stored 0%)
adding: html/00Index.html (188 bytes security) (deflated 89%)
adding: html/R.css (188 bytes security) (deflated 70%)
adding: INDEX (188 bytes security) (deflated 70%)
adding: libs/ (256 bytes security) (stored 0%)
adding: libs/i386/ (256 bytes security) (stored 0%)
adding: libs/i386/Rtreemix.dll (188 bytes security) (deflated 63%)
adding: libs/x64/ (256 bytes security) (stored 0%)
adding: libs/x64/Rtreemix.dll (188 bytes security) (deflated 67%)
adding: MD5 (188 bytes security) (deflated 44%)
adding: Meta/ (256 bytes security) (stored 0%)
adding: Meta/data.rds (188 bytes security) (deflated 1%)
adding: Meta/hsearch.rds (188 bytes security) (stored 0%)
adding: Meta/links.rds (188 bytes security) (stored 0%)
adding: Meta/nsInfo.rds (188 bytes security) (stored 0%)
adding: Meta/package.rds (188 bytes security) (stored 0%)
adding: Meta/Rd.rds (188 bytes security) (stored 0%)
adding: Meta/vignette.rds (188 bytes security) (stored 0%)
adding: NAMESPACE (188 bytes security) (deflated 58%)
adding: R/ (256 bytes security) (stored 0%)
adding: R/Rtreemix (188 bytes security) (deflated 41%)
adding: R/Rtreemix.rdb (188 bytes security) (deflated 30%)
adding: R/Rtreemix.rdx (188 bytes security) (deflated 2%)